{
 "currentVersion": 11.2,
 "serviceDescription": "Region2/PuertoRico_02PCT_Depth",
 "name": "Region2/PuertoRico_02PCT_Depth",
 "description": "",
 "extent": {
  "xmin": 110928.24249267578,
  "ymin": 208489.89868164062,
  "xmax": 328437.00551020185,
  "ymax": 276164.77803139936,
  "spatialReference": {
   "wkid": 32161,
   "latestWkid": 32161
  }
 },
 "initialExtent": {
  "xmin": 110928.24249267578,
  "ymin": 208489.89868164062,
  "xmax": 328437.00551020185,
  "ymax": 276164.77803139936,
  "spatialReference": {
   "wkid": 32161,
   "latestWkid": 32161
  }
 },
 "fullExtent": {
  "xmin": 110928.24249267578,
  "ymin": 208489.89868164062,
  "xmax": 328437.00551020185,
  "ymax": 276164.77803139936,
  "spatialReference": {
   "wkid": 32161,
   "latestWkid": 32161
  }
 },
 "sortableFields": "",
 "bandCount": 1,
 "pixelType": "F32",
 "minValues": [
  -1746.0651855469
 ],
 "maxValues": [
  111.51335144043
 ],
 "meanValues": [
  2.9279672251308
 ],
 "stdvValues": [
  2.9730668305175
 ],
 "hasMultidimensions": false,
 "pixelSizeX": 3.0480060960121924,
 "pixelSizeY": 3.0480060960121933,
 "meanPixelSize": 3.048006096012193,
 "datasetFormat": "TIFF",
 "uncompressedSize": 6337713132,
 "blockWidth": 128,
 "blockHeight": 128,
 "compressionType": "LZW",
 "bandNames": [
  "Band_1"
 ],
 "allowCopy": true,
 "allowAnalysis": true,
 "itemAccess": false,
 "inspectionCapabilities": "",
 "noDataValue": -1,
 "noDataValues": [
  -1
 ],
 "minPixelSize": 0,
 "maxPixelSize": 0,
 "copyrightText": "",
 "serviceDataType": "esriImageServiceDataTypeGeneric",
 "serviceSourceType": "esriImageServiceSourceTypeDataset",
 "objectIdField": "",
 "fields": [],
 "capabilities": "Image,Metadata,Mensuration",
 "defaultMosaicMethod": "Center",
 "allowedMosaicMethods": "",
 "sortField": "",
 "sortValue": null,
 "sortAscending": true,
 "mosaicOperator": "First",
 "defaultCompressionQuality": 75,
 "defaultResamplingMethod": "Bilinear",
 "maxImageHeight": 4100,
 "maxImageWidth": 15000,
 "allowRasterFunction": true,
 "rasterFunctionInfos": [
  {
   "name": "None",
   "description": "",
   "help": ""
  }
 ],
 "rasterTypeInfos": [
  {
   "name": "Raster Dataset",
   "description": "Supports all ArcGIS Raster Datasets",
   "help": ""
  }
 ],
 "mensurationCapabilities": "Basic",
 "hasHistograms": true,
 "hasColormap": false,
 "hasRasterAttributeTable": false,
 "minScale": 0,
 "maxScale": 0,
 "exportTilesAllowed": false,
 "supportsStatistics": false,
 "supportsAdvancedQueries": false,
 "editFieldsInfo": null,
 "ownershipBasedAccessControlForRasters": null,
 "allowComputeTiePoints": false,
 "useStandardizedQueries": true,
 "advancedQueryCapabilities": {
  "useStandardizedQueries": true,
  "supportsStatistics": false,
  "supportsOrderBy": false,
  "supportsDistinct": false,
  "supportsPagination": false
 },
 "spatialReference": {
  "wkid": 32161,
  "latestWkid": 32161
 }
}
