{
 "currentVersion": 11.2,
 "serviceDescription": "Region2/PuertoRico_1PCT_Depth",
 "name": "Region2/PuertoRico_1PCT_Depth",
 "description": "",
 "extent": {
  "xmin": 110935.31427001953,
  "ymin": 208182.1414794922,
  "xmax": 328434.9332692574,
  "ymax": 276274.59766440454,
  "spatialReference": {
   "wkid": 32161,
   "latestWkid": 32161
  }
 },
 "initialExtent": {
  "xmin": 110935.31427001953,
  "ymin": 208182.1414794922,
  "xmax": 328434.9332692574,
  "ymax": 276274.59766440454,
  "spatialReference": {
   "wkid": 32161,
   "latestWkid": 32161
  }
 },
 "fullExtent": {
  "xmin": 110935.31427001953,
  "ymin": 208182.1414794922,
  "xmax": 328434.9332692574,
  "ymax": 276274.59766440454,
  "spatialReference": {
   "wkid": 32161,
   "latestWkid": 32161
  }
 },
 "sortableFields": "",
 "bandCount": 1,
 "pixelType": "F32",
 "minValues": [
  0
 ],
 "maxValues": [
  108.55184936523
 ],
 "meanValues": [
  2.5563978129862
 ],
 "stdvValues": [
  2.2221643914301
 ],
 "hasMultidimensions": false,
 "pixelSizeX": 3.0480060960121906,
 "pixelSizeY": 3.0480060960121915,
 "meanPixelSize": 3.048006096012191,
 "datasetFormat": "TIFF",
 "uncompressedSize": 6376550880,
 "blockWidth": 128,
 "blockHeight": 128,
 "compressionType": "LZW",
 "bandNames": [
  "1pct_DG2"
 ],
 "allowCopy": true,
 "allowAnalysis": true,
 "itemAccess": false,
 "inspectionCapabilities": "",
 "noDataValue": -3.4028230607370965E38,
 "noDataValues": [
  -3.4028230607370965E38
 ],
 "minPixelSize": 0,
 "maxPixelSize": 0,
 "copyrightText": "",
 "serviceDataType": "esriImageServiceDataTypeGeneric",
 "serviceSourceType": "esriImageServiceSourceTypeDataset",
 "objectIdField": "",
 "fields": [],
 "capabilities": "Image,Metadata,Mensuration",
 "defaultMosaicMethod": "Center",
 "allowedMosaicMethods": "",
 "sortField": "",
 "sortValue": null,
 "sortAscending": true,
 "mosaicOperator": "First",
 "defaultCompressionQuality": 75,
 "defaultResamplingMethod": "Bilinear",
 "maxImageHeight": 4100,
 "maxImageWidth": 15000,
 "allowRasterFunction": true,
 "rasterFunctionInfos": [
  {
   "name": "None",
   "description": "",
   "help": ""
  }
 ],
 "rasterTypeInfos": [
  {
   "name": "Raster Dataset",
   "description": "Supports all ArcGIS Raster Datasets",
   "help": ""
  }
 ],
 "mensurationCapabilities": "Basic",
 "hasHistograms": true,
 "hasColormap": false,
 "hasRasterAttributeTable": false,
 "minScale": 0,
 "maxScale": 0,
 "exportTilesAllowed": false,
 "supportsStatistics": false,
 "supportsAdvancedQueries": false,
 "editFieldsInfo": null,
 "ownershipBasedAccessControlForRasters": null,
 "allowComputeTiePoints": false,
 "useStandardizedQueries": true,
 "advancedQueryCapabilities": {
  "useStandardizedQueries": true,
  "supportsStatistics": false,
  "supportsOrderBy": false,
  "supportsDistinct": false,
  "supportsPagination": false
 },
 "spatialReference": {
  "wkid": 32161,
  "latestWkid": 32161
 }
}
