{
 "currentVersion": 11.2,
 "serviceDescription": "Region2/PuertoRico_2PCT_Depth",
 "name": "Region2/PuertoRico_2PCT_Depth",
 "description": "",
 "extent": {
  "xmin": 114249.60221650917,
  "ymin": 211816.44097502553,
  "xmax": 324031.6697806443,
  "ymax": 272813.13896842155,
  "spatialReference": {
   "wkid": 32161,
   "latestWkid": 32161
  }
 },
 "initialExtent": {
  "xmin": 114249.60221650917,
  "ymin": 211816.44097502553,
  "xmax": 324031.6697806443,
  "ymax": 272813.13896842155,
  "spatialReference": {
   "wkid": 32161,
   "latestWkid": 32161
  }
 },
 "fullExtent": {
  "xmin": 114249.60221650917,
  "ymin": 211816.44097502553,
  "xmax": 324031.6697806443,
  "ymax": 272813.13896842155,
  "spatialReference": {
   "wkid": 32161,
   "latestWkid": 32161
  }
 },
 "sortableFields": "",
 "bandCount": 1,
 "pixelType": "F32",
 "minValues": [
  0.03048038482666
 ],
 "maxValues": [
  107.42054748535
 ],
 "meanValues": [
  2.7417612662555
 ],
 "stdvValues": [
  2.1841891938051
 ],
 "hasMultidimensions": false,
 "pixelSizeX": 3.048006096012192,
 "pixelSizeY": 3.0480060960121937,
 "meanPixelSize": 3.048006096012193,
 "datasetFormat": "TIFF",
 "uncompressedSize": 5509383648,
 "blockWidth": 128,
 "blockHeight": 128,
 "compressionType": "LZW",
 "bandNames": [
  "Band_1"
 ],
 "allowCopy": true,
 "allowAnalysis": true,
 "itemAccess": false,
 "inspectionCapabilities": "",
 "noDataValue": -3.4028230607370965E38,
 "noDataValues": [
  -3.4028230607370965E38
 ],
 "minPixelSize": 0,
 "maxPixelSize": 0,
 "copyrightText": "",
 "serviceDataType": "esriImageServiceDataTypeGeneric",
 "serviceSourceType": "esriImageServiceSourceTypeDataset",
 "objectIdField": "",
 "fields": [],
 "capabilities": "Image,Metadata,Mensuration",
 "defaultMosaicMethod": "Center",
 "allowedMosaicMethods": "",
 "sortField": "",
 "sortValue": null,
 "sortAscending": true,
 "mosaicOperator": "First",
 "defaultCompressionQuality": 75,
 "defaultResamplingMethod": "Bilinear",
 "maxImageHeight": 4100,
 "maxImageWidth": 15000,
 "allowRasterFunction": true,
 "rasterFunctionInfos": [
  {
   "name": "None",
   "description": "",
   "help": ""
  }
 ],
 "rasterTypeInfos": [
  {
   "name": "Raster Dataset",
   "description": "Supports all ArcGIS Raster Datasets",
   "help": ""
  }
 ],
 "mensurationCapabilities": "Basic",
 "hasHistograms": true,
 "hasColormap": false,
 "hasRasterAttributeTable": false,
 "minScale": 0,
 "maxScale": 0,
 "exportTilesAllowed": false,
 "supportsStatistics": false,
 "supportsAdvancedQueries": false,
 "editFieldsInfo": null,
 "ownershipBasedAccessControlForRasters": null,
 "allowComputeTiePoints": false,
 "useStandardizedQueries": true,
 "advancedQueryCapabilities": {
  "useStandardizedQueries": true,
  "supportsStatistics": false,
  "supportsOrderBy": false,
  "supportsDistinct": false,
  "supportsPagination": false
 },
 "spatialReference": {
  "wkid": 32161,
  "latestWkid": 32161
 }
}
