{
 "currentVersion": 11.2,
 "serviceDescription": "Region2/USVI_02PCT_Depth",
 "name": "Region2/USVI_02PCT_Depth",
 "description": "",
 "extent": {
  "xmin": 1143477.4925933033,
  "ymin": 603749.9294775575,
  "xmax": 1300067.4925933033,
  "ymax": 853459.9294775575,
  "spatialReference": {
   "wkid": 102761,
   "latestWkid": 102761
  }
 },
 "initialExtent": {
  "xmin": 1143477.4925933033,
  "ymin": 603749.9294775575,
  "xmax": 1300067.4925933033,
  "ymax": 853459.9294775575,
  "spatialReference": {
   "wkid": 102761,
   "latestWkid": 102761
  }
 },
 "fullExtent": {
  "xmin": 1143477.4925933033,
  "ymin": 603749.9294775575,
  "xmax": 1300067.4925933033,
  "ymax": 853459.9294775575,
  "spatialReference": {
   "wkid": 102761,
   "latestWkid": 102761
  }
 },
 "sortableFields": "",
 "bandCount": 1,
 "pixelType": "F32",
 "minValues": [
  0
 ],
 "maxValues": [
  34.74212646484375
 ],
 "meanValues": [
  3.033823036727062
 ],
 "stdvValues": [
  3.9775070565615316
 ],
 "hasMultidimensions": false,
 "pixelSizeX": 10,
 "pixelSizeY": 10,
 "meanPixelSize": 3.0480060960121924,
 "datasetFormat": "FGDBR",
 "uncompressedSize": 1564083556,
 "blockWidth": 128,
 "blockHeight": 128,
 "compressionType": "LZ77",
 "bandNames": [
  "Band_1"
 ],
 "allowCopy": true,
 "allowAnalysis": true,
 "itemAccess": false,
 "inspectionCapabilities": "",
 "minPixelSize": 0,
 "maxPixelSize": 0,
 "copyrightText": "",
 "serviceDataType": "esriImageServiceDataTypeGeneric",
 "serviceSourceType": "esriImageServiceSourceTypeDataset",
 "objectIdField": "",
 "fields": [],
 "capabilities": "Image,Metadata,Mensuration",
 "defaultMosaicMethod": "Center",
 "allowedMosaicMethods": "",
 "sortField": "",
 "sortValue": null,
 "sortAscending": true,
 "mosaicOperator": "First",
 "defaultCompressionQuality": 75,
 "defaultResamplingMethod": "Bilinear",
 "maxImageHeight": 4100,
 "maxImageWidth": 15000,
 "allowRasterFunction": true,
 "rasterFunctionInfos": [
  {
   "name": "None",
   "description": "",
   "help": ""
  }
 ],
 "rasterTypeInfos": [
  {
   "name": "Raster Dataset",
   "description": "Supports all ArcGIS Raster Datasets",
   "help": ""
  }
 ],
 "mensurationCapabilities": "Basic",
 "hasHistograms": true,
 "hasColormap": false,
 "hasRasterAttributeTable": false,
 "minScale": 0,
 "maxScale": 0,
 "exportTilesAllowed": false,
 "supportsStatistics": false,
 "supportsAdvancedQueries": false,
 "editFieldsInfo": null,
 "ownershipBasedAccessControlForRasters": null,
 "allowComputeTiePoints": false,
 "useStandardizedQueries": true,
 "advancedQueryCapabilities": {
  "useStandardizedQueries": true,
  "supportsStatistics": false,
  "supportsOrderBy": false,
  "supportsDistinct": false,
  "supportsPagination": false
 },
 "spatialReference": {
  "wkid": 102761,
  "latestWkid": 102761
 }
}
