{ "currentVersion": 11.2, "serviceDescription": "
The Federal Emergency Management Agency (FEMA) has developed the Advisory 1-Percent Depth Grid to approximate the depth of the Advisory 1-Percent Annual-Chance Flood event in the US Virgin Islands. These grid data are presented with a spatial resolution (cell size) of 10 feet by 10 feet (equal to approximately 3.048 meters by 3.048 meters), with cell values representing the depth of water in feet above ground.<\/span><\/p><\/div><\/div>",
"name": "Region2/USVI_1PCT_Depth",
"description": " The Federal Emergency Management Agency (FEMA) has developed the Advisory 1-Percent Depth Grid to approximate the depth of the Advisory 1-Percent Annual-Chance Flood event in the US Virgin Islands. These grid data are presented with a spatial resolution (cell size) of 10 feet by 10 feet (equal to approximately 3.048 meters by 3.048 meters), with cell values representing the depth of water in feet above ground.<\/span><\/p><\/div><\/div>",
"extent": {
"xmin": 1122912.4925933033,
"ymin": 600289.9294775575,
"xmax": 1306812.4925933033,
"ymax": 870149.9294775575,
"spatialReference": {
"wkid": 102761,
"latestWkid": 102761
}
},
"initialExtent": {
"xmin": 1122912.4925933033,
"ymin": 600289.9294775575,
"xmax": 1306812.4925933033,
"ymax": 870149.9294775575,
"spatialReference": {
"wkid": 102761,
"latestWkid": 102761
}
},
"fullExtent": {
"xmin": 1122912.4925933033,
"ymin": 600289.9294775575,
"xmax": 1306812.4925933033,
"ymax": 870149.9294775575,
"spatialReference": {
"wkid": 102761,
"latestWkid": 102761
}
},
"sortableFields": "",
"bandCount": 1,
"pixelType": "F32",
"minValues": [
0
],
"maxValues": [
30.334922790527
],
"meanValues": [
3.8801717719948
],
"stdvValues": [
4.2470461084578
],
"hasMultidimensions": false,
"pixelSizeX": 10,
"pixelSizeY": 10,
"meanPixelSize": 3.0480060960121924,
"datasetFormat": "TIFF",
"uncompressedSize": 1985090160,
"blockWidth": 128,
"blockHeight": 128,
"compressionType": "LZW",
"bandNames": [
"Band_1"
],
"allowCopy": true,
"allowAnalysis": true,
"itemAccess": false,
"inspectionCapabilities": "",
"noDataValue": -3.4028230607370965E38,
"noDataValues": [
-3.4028230607370965E38
],
"minPixelSize": 0,
"maxPixelSize": 0,
"copyrightText": "FEMA",
"serviceDataType": "esriImageServiceDataTypeGeneric",
"serviceSourceType": "esriImageServiceSourceTypeDataset",
"objectIdField": "",
"fields": [],
"capabilities": "Mensuration,Image,Metadata",
"defaultMosaicMethod": "Center",
"allowedMosaicMethods": "",
"sortField": "",
"sortValue": null,
"sortAscending": true,
"mosaicOperator": "First",
"defaultCompressionQuality": 75,
"defaultResamplingMethod": "Bilinear",
"maxImageHeight": 4100,
"maxImageWidth": 15000,
"allowRasterFunction": true,
"rasterFunctionInfos": [
{
"name": "None",
"description": "",
"help": ""
}
],
"rasterTypeInfos": [
{
"name": "Raster Dataset",
"description": "Supports all ArcGIS Raster Datasets",
"help": ""
}
],
"mensurationCapabilities": "Basic",
"hasHistograms": true,
"hasColormap": false,
"hasRasterAttributeTable": false,
"minScale": 0,
"maxScale": 0,
"exportTilesAllowed": false,
"supportsStatistics": false,
"supportsAdvancedQueries": false,
"editFieldsInfo": null,
"ownershipBasedAccessControlForRasters": null,
"allowComputeTiePoints": false,
"useStandardizedQueries": true,
"advancedQueryCapabilities": {
"useStandardizedQueries": true,
"supportsStatistics": false,
"supportsOrderBy": false,
"supportsDistinct": false,
"supportsPagination": false
},
"spatialReference": {
"wkid": 102761,
"latestWkid": 102761
}
}