{ "currentVersion": 11.2, "serviceDescription": "
The Federal Emergency Management Agency (FEMA) has developed the Advisory 1-Percent Water Surface Elevation (WSEL) Grid to approximate the elevation values of the Advisory 1-Percent Annual-Chance Flood event. These grid data are presented with a spatial resolution (cell size) of 10 feet by 10 feet (equal to approximately 3.048 meters by 3.048 meters), with cell values representing the water surface elevation values in feet above the Virgin Islands Vertical Datum of 2009 (VIVD09).<\/span><\/p><\/div><\/div>",
"name": "Region2/USVI_1PCT_Water_Surface_Elevation",
"description": " The Federal Emergency Management Agency (FEMA) has developed the Advisory 1-Percent Water Surface Elevation (WSEL) Grid to approximate the elevation values of the Advisory 1-Percent Annual-Chance Flood event. These grid data are presented with a spatial resolution (cell size) of 10 feet by 10 feet (equal to approximately 3.048 meters by 3.048 meters), with cell values representing the water surface elevation values in feet above the Virgin Islands Vertical Datum of 2009 (VIVD09).<\/span><\/p><\/div><\/div>",
"extent": {
"xmin": 1123377.4925933033,
"ymin": 600519.9294775575,
"xmax": 1306257.4925933033,
"ymax": 869809.9294775575,
"spatialReference": {
"wkid": 102761,
"latestWkid": 102761
}
},
"initialExtent": {
"xmin": 1123377.4925933033,
"ymin": 600519.9294775575,
"xmax": 1306257.4925933033,
"ymax": 869809.9294775575,
"spatialReference": {
"wkid": 102761,
"latestWkid": 102761
}
},
"fullExtent": {
"xmin": 1123377.4925933033,
"ymin": 600519.9294775575,
"xmax": 1306257.4925933033,
"ymax": 869809.9294775575,
"spatialReference": {
"wkid": 102761,
"latestWkid": 102761
}
},
"sortableFields": "",
"bandCount": 1,
"pixelType": "F32",
"minValues": [
4
],
"maxValues": [
1044.5881347656
],
"meanValues": [
58.512195197136
],
"stdvValues": [
69.769803211931
],
"hasMultidimensions": false,
"pixelSizeX": 10,
"pixelSizeY": 10,
"meanPixelSize": 3.0480060960121924,
"datasetFormat": "TIFF",
"uncompressedSize": 1969910208,
"blockWidth": 128,
"blockHeight": 128,
"compressionType": "LZW",
"bandNames": [
"Band_1"
],
"allowCopy": true,
"allowAnalysis": true,
"itemAccess": false,
"inspectionCapabilities": "",
"noDataValue": -3.4028230607370965E38,
"noDataValues": [
-3.4028230607370965E38
],
"minPixelSize": 0,
"maxPixelSize": 0,
"copyrightText": "FEMA",
"serviceDataType": "esriImageServiceDataTypeGeneric",
"serviceSourceType": "esriImageServiceSourceTypeDataset",
"objectIdField": "",
"fields": [],
"capabilities": "Mensuration,Image,Metadata",
"defaultMosaicMethod": "Center",
"allowedMosaicMethods": "",
"sortField": "",
"sortValue": null,
"sortAscending": true,
"mosaicOperator": "First",
"defaultCompressionQuality": 75,
"defaultResamplingMethod": "Bilinear",
"maxImageHeight": 4100,
"maxImageWidth": 15000,
"allowRasterFunction": true,
"rasterFunctionInfos": [
{
"name": "None",
"description": "",
"help": ""
}
],
"rasterTypeInfos": [
{
"name": "Raster Dataset",
"description": "Supports all ArcGIS Raster Datasets",
"help": ""
}
],
"mensurationCapabilities": "Basic",
"hasHistograms": true,
"hasColormap": false,
"hasRasterAttributeTable": false,
"minScale": 0,
"maxScale": 0,
"exportTilesAllowed": false,
"supportsStatistics": false,
"supportsAdvancedQueries": false,
"editFieldsInfo": null,
"ownershipBasedAccessControlForRasters": null,
"allowComputeTiePoints": false,
"useStandardizedQueries": true,
"advancedQueryCapabilities": {
"useStandardizedQueries": true,
"supportsStatistics": false,
"supportsOrderBy": false,
"supportsDistinct": false,
"supportsPagination": false
},
"spatialReference": {
"wkid": 102761,
"latestWkid": 102761
}
}