{ "currentVersion": 11.2, "serviceDescription": "
The Federal Emergency Management Agency (FEMA) has developed the Digital Elevation Model (DEM) in gridded for US Virgin Islands using NOAA 2013 LiDAR data. This grids represents the bare ground with a spatial resolution of 10 feet.<\/span><\/p><\/div><\/div><\/div>",
"name": "Region2/USVI_NOAA2013_LiDAR_Based_Digital_Elevation_Model",
"description": " The Federal Emergency Management Agency (FEMA) has developed the Digital Elevation Model (DEM) in gridded for US Virgin Islands using NOAA 2013 LiDAR data. This grids represents the bare ground with a spatial resolution of 10 feet.<\/span><\/p><\/div><\/div><\/div>",
"extent": {
"xmin": 1116607.9617565903,
"ymin": 597995.0554095607,
"xmax": 1307907.9617565903,
"ymax": 874505.0554095607,
"spatialReference": {
"wkid": 102761,
"latestWkid": 102761
}
},
"initialExtent": {
"xmin": 1116607.9617565903,
"ymin": 597995.0554095607,
"xmax": 1307907.9617565903,
"ymax": 874505.0554095607,
"spatialReference": {
"wkid": 102761,
"latestWkid": 102761
}
},
"fullExtent": {
"xmin": 1116607.9617565903,
"ymin": 597995.0554095607,
"xmax": 1307907.9617565903,
"ymax": 874505.0554095607,
"spatialReference": {
"wkid": 102761,
"latestWkid": 102761
}
},
"sortableFields": "",
"bandCount": 1,
"pixelType": "F32",
"minValues": [
-0.9990000128746033
],
"maxValues": [
1546.166259765625
],
"meanValues": [
142.6742983124379
],
"stdvValues": [
221.4184015641655
],
"hasMultidimensions": false,
"pixelSizeX": 10,
"pixelSizeY": 10,
"meanPixelSize": 3.0480060960121924,
"datasetFormat": "FGDBR",
"uncompressedSize": 2115854520,
"blockWidth": 128,
"blockHeight": 128,
"compressionType": "LZ77",
"bandNames": [
"Band_1"
],
"allowCopy": true,
"allowAnalysis": true,
"itemAccess": false,
"inspectionCapabilities": "",
"minPixelSize": 0,
"maxPixelSize": 0,
"copyrightText": "FEMA",
"serviceDataType": "esriImageServiceDataTypeGeneric",
"serviceSourceType": "esriImageServiceSourceTypeDataset",
"objectIdField": "",
"fields": [],
"capabilities": "Mensuration,Image,Metadata",
"defaultMosaicMethod": "Center",
"allowedMosaicMethods": "",
"sortField": "",
"sortValue": null,
"sortAscending": true,
"mosaicOperator": "First",
"defaultCompressionQuality": 75,
"defaultResamplingMethod": "Bilinear",
"maxImageHeight": 4100,
"maxImageWidth": 15000,
"allowRasterFunction": true,
"rasterFunctionInfos": [
{
"name": "None",
"description": "",
"help": ""
}
],
"rasterTypeInfos": [
{
"name": "Raster Dataset",
"description": "Supports all ArcGIS Raster Datasets",
"help": ""
}
],
"mensurationCapabilities": "Basic",
"hasHistograms": true,
"hasColormap": false,
"hasRasterAttributeTable": false,
"minScale": 0,
"maxScale": 0,
"exportTilesAllowed": false,
"supportsStatistics": false,
"supportsAdvancedQueries": false,
"editFieldsInfo": null,
"ownershipBasedAccessControlForRasters": null,
"allowComputeTiePoints": false,
"useStandardizedQueries": true,
"advancedQueryCapabilities": {
"useStandardizedQueries": true,
"supportsStatistics": false,
"supportsOrderBy": false,
"supportsDistinct": false,
"supportsPagination": false
},
"spatialReference": {
"wkid": 102761,
"latestWkid": 102761
}
}