{
 "currentVersion": 11.2,
 "serviceDescription": "Marshall_100YR_WSE",
 "name": "Region8/SD_Marshall",
 "description": "Marshall_100YR_WSE",
 "extent": {
  "xmin": 2482713.1315788687,
  "ymin": 638097.9445008237,
  "xmax": 2678659.5913978415,
  "ymax": 778513.6071523372,
  "spatialReference": {
   "wkid": 3454,
   "latestWkid": 4457
  }
 },
 "initialExtent": {
  "xmin": 2482713.1315788687,
  "ymin": 638097.9445008237,
  "xmax": 2678659.5913978415,
  "ymax": 778513.6071523372,
  "spatialReference": {
   "wkid": 3454,
   "latestWkid": 4457
  }
 },
 "fullExtent": {
  "xmin": 2482713.1315788687,
  "ymin": 638097.9445008237,
  "xmax": 2678659.5913978415,
  "ymax": 778513.6071523372,
  "spatialReference": {
   "wkid": 3454,
   "latestWkid": 4457
  }
 },
 "sortableFields": "",
 "bandCount": 1,
 "pixelType": "F32",
 "minValues": [
  1192.73828125
 ],
 "maxValues": [
  2065.79296875
 ],
 "meanValues": [
  1504.8108988142396
 ],
 "stdvValues": [
  251.41382705879755
 ],
 "hasMultidimensions": false,
 "pixelSizeX": 2.999976419544564,
 "pixelSizeY": 2.9999500630584426,
 "meanPixelSize": 0.9143906247299478,
 "datasetFormat": "FGDBR",
 "uncompressedSize": 12228535560,
 "blockWidth": 128,
 "blockHeight": 128,
 "compressionType": "LZ77",
 "bandNames": [
  "Band_1"
 ],
 "allowCopy": true,
 "allowAnalysis": true,
 "itemAccess": false,
 "inspectionCapabilities": "",
 "minPixelSize": 0,
 "maxPixelSize": 0,
 "copyrightText": "",
 "serviceDataType": "esriImageServiceDataTypeGeneric",
 "serviceSourceType": "esriImageServiceSourceTypeDataset",
 "objectIdField": "",
 "fields": [],
 "capabilities": "Image,Metadata,Mensuration",
 "defaultMosaicMethod": "Center",
 "allowedMosaicMethods": "",
 "sortField": "",
 "sortValue": null,
 "sortAscending": true,
 "mosaicOperator": "First",
 "defaultCompressionQuality": 75,
 "defaultResamplingMethod": "Bilinear",
 "maxImageHeight": 4100,
 "maxImageWidth": 15000,
 "allowRasterFunction": true,
 "rasterFunctionInfos": [
  {
   "name": "None",
   "description": "",
   "help": ""
  }
 ],
 "rasterTypeInfos": [
  {
   "name": "Raster Dataset",
   "description": "Supports all ArcGIS Raster Datasets",
   "help": ""
  }
 ],
 "mensurationCapabilities": "Basic",
 "hasHistograms": true,
 "hasColormap": false,
 "hasRasterAttributeTable": false,
 "minScale": 0,
 "maxScale": 0,
 "exportTilesAllowed": false,
 "supportsStatistics": false,
 "supportsAdvancedQueries": false,
 "editFieldsInfo": null,
 "ownershipBasedAccessControlForRasters": null,
 "allowComputeTiePoints": false,
 "useStandardizedQueries": true,
 "advancedQueryCapabilities": {
  "useStandardizedQueries": true,
  "supportsStatistics": false,
  "supportsOrderBy": false,
  "supportsDistinct": false,
  "supportsPagination": false
 },
 "spatialReference": {
  "wkid": 3454,
  "latestWkid": 4457
 }
}
