{
 "currentVersion": 11.2,
 "serviceDescription": "1% Water Surface Elevation Raster of Pierce County North Dakota used for ID on the R8 Viewer \n",
 "name": "Region8_WSE/W_NDPierceCo_01",
 "description": "1% Water Surface Elevation Raster of Pierce County North Dakota used for ID on the R8 Viewer \n",
 "extent": {
  "xmin": 2022112.4737574032,
  "ymin": 308814.8496508298,
  "xmax": 2213688.2281574034,
  "ymax": 565619.4696508298,
  "spatialReference": {
   "wkid": 102720,
   "latestWkid": 102720
  }
 },
 "initialExtent": {
  "xmin": 2022112.4737574032,
  "ymin": 308814.8496508298,
  "xmax": 2213688.2281574034,
  "ymax": 565619.4696508298,
  "spatialReference": {
   "wkid": 102720,
   "latestWkid": 102720
  }
 },
 "fullExtent": {
  "xmin": 2022112.4737574032,
  "ymin": 308814.8496508298,
  "xmax": 2213688.2281574034,
  "ymax": 565619.4696508298,
  "spatialReference": {
   "wkid": 102720,
   "latestWkid": 102720
  }
 },
 "sortableFields": "",
 "bandCount": 1,
 "pixelType": "F32",
 "minValues": [
  1466.8179931640625
 ],
 "maxValues": [
  1664.8135986328125
 ],
 "meanValues": [
  1538.0544292303305
 ],
 "stdvValues": [
  43.06783868113131
 ],
 "hasMultidimensions": false,
 "pixelSizeX": 3.2808000000000037,
 "pixelSizeY": 3.2808,
 "meanPixelSize": 0.9999898399796807,
 "datasetFormat": "FGDBR",
 "uncompressedSize": 18282848300,
 "blockWidth": 128,
 "blockHeight": 128,
 "compressionType": "NONE",
 "bandNames": [
  "Band_1"
 ],
 "allowCopy": true,
 "allowAnalysis": true,
 "itemAccess": false,
 "inspectionCapabilities": "",
 "minPixelSize": 0,
 "maxPixelSize": 0,
 "copyrightText": "",
 "serviceDataType": "esriImageServiceDataTypeGeneric",
 "serviceSourceType": "esriImageServiceSourceTypeDataset",
 "objectIdField": "",
 "fields": [],
 "capabilities": "Mensuration,Image,Metadata",
 "defaultMosaicMethod": "Center",
 "allowedMosaicMethods": "",
 "sortField": "",
 "sortValue": null,
 "sortAscending": true,
 "mosaicOperator": "First",
 "defaultCompressionQuality": 75,
 "defaultResamplingMethod": "Bilinear",
 "maxImageHeight": 4100,
 "maxImageWidth": 15000,
 "allowRasterFunction": true,
 "rasterFunctionInfos": [
  {
   "name": "None",
   "description": "",
   "help": ""
  }
 ],
 "rasterTypeInfos": [
  {
   "name": "Raster Dataset",
   "description": "Supports all ArcGIS Raster Datasets",
   "help": ""
  }
 ],
 "mensurationCapabilities": "Basic",
 "hasHistograms": true,
 "hasColormap": false,
 "hasRasterAttributeTable": false,
 "minScale": 0,
 "maxScale": 0,
 "exportTilesAllowed": false,
 "supportsStatistics": false,
 "supportsAdvancedQueries": false,
 "editFieldsInfo": null,
 "ownershipBasedAccessControlForRasters": null,
 "allowComputeTiePoints": false,
 "useStandardizedQueries": true,
 "advancedQueryCapabilities": {
  "useStandardizedQueries": true,
  "supportsStatistics": false,
  "supportsOrderBy": false,
  "supportsDistinct": false,
  "supportsPagination": false
 },
 "spatialReference": {
  "wkid": 102720,
  "latestWkid": 102720
 }
}
