{
 "currentVersion": 11.2,
 "serviceDescription": "1% Water Surface Elevation Raster of Ramsey County North Dakota used for ID on the R8 Viewer\n",
 "name": "Region8_WSE/W_NDRamseyCo_01",
 "description": "1% Water Surface Elevation Raster of Ramsey County North Dakota used for ID on the R8 Viewer\n",
 "extent": {
  "xmin": 2283931.262862822,
  "ymin": 339150.6011555653,
  "xmax": 2507373.427662822,
  "ymax": 571109.7227555653,
  "spatialReference": {
   "wkid": 2265,
   "latestWkid": 2265
  }
 },
 "initialExtent": {
  "xmin": 2283931.262862822,
  "ymin": 339150.6011555653,
  "xmax": 2507373.427662822,
  "ymax": 571109.7227555653,
  "spatialReference": {
   "wkid": 2265,
   "latestWkid": 2265
  }
 },
 "fullExtent": {
  "xmin": 2283931.262862822,
  "ymin": 339150.6011555653,
  "xmax": 2507373.427662822,
  "ymax": 571109.7227555653,
  "spatialReference": {
   "wkid": 2265,
   "latestWkid": 2265
  }
 },
 "sortableFields": "",
 "bandCount": 1,
 "pixelType": "F32",
 "minValues": [
  1448.0579833984375
 ],
 "maxValues": [
  1630.1859130859375
 ],
 "meanValues": [
  1472.511052399503
 ],
 "stdvValues": [
  25.480529102891047
 ],
 "hasMultidimensions": false,
 "pixelSizeX": 3.280799999999999,
 "pixelSizeY": 3.2808,
 "meanPixelSize": 0.9999878399999999,
 "datasetFormat": "FGDBR",
 "uncompressedSize": 19260921648,
 "blockWidth": 128,
 "blockHeight": 128,
 "compressionType": "NONE",
 "bandNames": [
  "Band_1"
 ],
 "allowCopy": true,
 "allowAnalysis": true,
 "itemAccess": false,
 "inspectionCapabilities": "",
 "minPixelSize": 0,
 "maxPixelSize": 0,
 "copyrightText": "",
 "serviceDataType": "esriImageServiceDataTypeGeneric",
 "serviceSourceType": "esriImageServiceSourceTypeDataset",
 "objectIdField": "",
 "fields": [],
 "capabilities": "Mensuration,Image,Metadata",
 "defaultMosaicMethod": "Center",
 "allowedMosaicMethods": "",
 "sortField": "",
 "sortValue": null,
 "sortAscending": true,
 "mosaicOperator": "First",
 "defaultCompressionQuality": 75,
 "defaultResamplingMethod": "Bilinear",
 "maxImageHeight": 4100,
 "maxImageWidth": 15000,
 "allowRasterFunction": true,
 "rasterFunctionInfos": [
  {
   "name": "None",
   "description": "",
   "help": ""
  }
 ],
 "rasterTypeInfos": [
  {
   "name": "Raster Dataset",
   "description": "Supports all ArcGIS Raster Datasets",
   "help": ""
  }
 ],
 "mensurationCapabilities": "Basic",
 "hasHistograms": true,
 "hasColormap": false,
 "hasRasterAttributeTable": false,
 "minScale": 0,
 "maxScale": 0,
 "exportTilesAllowed": false,
 "supportsStatistics": false,
 "supportsAdvancedQueries": false,
 "editFieldsInfo": null,
 "ownershipBasedAccessControlForRasters": null,
 "allowComputeTiePoints": false,
 "useStandardizedQueries": true,
 "advancedQueryCapabilities": {
  "useStandardizedQueries": true,
  "supportsStatistics": false,
  "supportsOrderBy": false,
  "supportsDistinct": false,
  "supportsPagination": false
 },
 "spatialReference": {
  "wkid": 2265,
  "latestWkid": 2265
 }
}
