{
 "currentVersion": 11.2,
 "serviceDescription": "1% Water Surface Elevation Raster of Richland County North Dakota used for ID on the R8 Viewer\n",
 "name": "Region8_WSE/W_NDRichlandCo_01",
 "description": "1% Water Surface Elevation Raster of Richland County North Dakota used for ID on the R8 Viewer\n",
 "extent": {
  "xmin": 2776723.80749374,
  "ymin": 114754.6762672514,
  "xmax": 2970609.24509374,
  "ymax": 374472.6466672514,
  "spatialReference": {
   "wkid": 102721,
   "latestWkid": 102721
  }
 },
 "initialExtent": {
  "xmin": 2776723.80749374,
  "ymin": 114754.6762672514,
  "xmax": 2970609.24509374,
  "ymax": 374472.6466672514,
  "spatialReference": {
   "wkid": 102721,
   "latestWkid": 102721
  }
 },
 "fullExtent": {
  "xmin": 2776723.80749374,
  "ymin": 114754.6762672514,
  "xmax": 2970609.24509374,
  "ymax": 374472.6466672514,
  "spatialReference": {
   "wkid": 102721,
   "latestWkid": 102721
  }
 },
 "sortableFields": "",
 "bandCount": 1,
 "pixelType": "F32",
 "minValues": [
  925.6061401367188
 ],
 "maxValues": [
  1258.737060546875
 ],
 "meanValues": [
  1009.8213497307322
 ],
 "stdvValues": [
  63.173685902196176
 ],
 "hasMultidimensions": false,
 "pixelSizeX": 3.280799999999997,
 "pixelSizeY": 3.2808,
 "meanPixelSize": 0.9999898399796796,
 "datasetFormat": "FGDBR",
 "uncompressedSize": 18713183244,
 "blockWidth": 128,
 "blockHeight": 128,
 "compressionType": "NONE",
 "bandNames": [
  "Band_1"
 ],
 "allowCopy": true,
 "allowAnalysis": true,
 "itemAccess": false,
 "inspectionCapabilities": "",
 "minPixelSize": 0,
 "maxPixelSize": 0,
 "copyrightText": "",
 "serviceDataType": "esriImageServiceDataTypeGeneric",
 "serviceSourceType": "esriImageServiceSourceTypeDataset",
 "objectIdField": "",
 "fields": [],
 "capabilities": "Mensuration,Image,Metadata",
 "defaultMosaicMethod": "Center",
 "allowedMosaicMethods": "",
 "sortField": "",
 "sortValue": null,
 "sortAscending": true,
 "mosaicOperator": "First",
 "defaultCompressionQuality": 75,
 "defaultResamplingMethod": "Bilinear",
 "maxImageHeight": 4100,
 "maxImageWidth": 15000,
 "allowRasterFunction": true,
 "rasterFunctionInfos": [
  {
   "name": "None",
   "description": "",
   "help": ""
  }
 ],
 "rasterTypeInfos": [
  {
   "name": "Raster Dataset",
   "description": "Supports all ArcGIS Raster Datasets",
   "help": ""
  }
 ],
 "mensurationCapabilities": "Basic",
 "hasHistograms": true,
 "hasColormap": false,
 "hasRasterAttributeTable": false,
 "minScale": 0,
 "maxScale": 0,
 "exportTilesAllowed": false,
 "supportsStatistics": false,
 "supportsAdvancedQueries": false,
 "editFieldsInfo": null,
 "ownershipBasedAccessControlForRasters": null,
 "allowComputeTiePoints": false,
 "useStandardizedQueries": true,
 "advancedQueryCapabilities": {
  "useStandardizedQueries": true,
  "supportsStatistics": false,
  "supportsOrderBy": false,
  "supportsDistinct": false,
  "supportsPagination": false
 },
 "spatialReference": {
  "wkid": 102721,
  "latestWkid": 102721
 }
}
