{
 "currentVersion": 11.2,
 "serviceDescription": "1% Water Surface Elevation Raster of Sargent County North Dakota used for ID on the R8 Viewer",
 "name": "Region8_WSE/W_NDSargentCo_01",
 "description": "1% Water Surface Elevation Raster of Sargent County North Dakota used for ID on the R8 Viewer",
 "extent": {
  "xmin": 2598351.583525461,
  "ymin": 107736.46232074048,
  "xmax": 2801288.748325461,
  "ymax": 241940.8671207405,
  "spatialReference": {
   "wkid": 102721,
   "latestWkid": 102721
  }
 },
 "initialExtent": {
  "xmin": 2598351.583525461,
  "ymin": 107736.46232074048,
  "xmax": 2801288.748325461,
  "ymax": 241940.8671207405,
  "spatialReference": {
   "wkid": 102721,
   "latestWkid": 102721
  }
 },
 "fullExtent": {
  "xmin": 2598351.583525461,
  "ymin": 107736.46232074048,
  "xmax": 2801288.748325461,
  "ymax": 241940.8671207405,
  "spatialReference": {
   "wkid": 102721,
   "latestWkid": 102721
  }
 },
 "sortableFields": "",
 "bandCount": 1,
 "pixelType": "F32",
 "minValues": [
  1050.1343994140625
 ],
 "maxValues": [
  1601.919677734375
 ],
 "meanValues": [
  1232.1934326048452
 ],
 "stdvValues": [
  84.15697680248766
 ],
 "hasMultidimensions": false,
 "pixelSizeX": 3.2807999999999984,
 "pixelSizeY": 3.2808000000000006,
 "meanPixelSize": 0.9999898399796798,
 "datasetFormat": "FGDBR",
 "uncompressedSize": 10121126144,
 "blockWidth": 128,
 "blockHeight": 128,
 "compressionType": "NONE",
 "bandNames": [
  "Band_1"
 ],
 "allowCopy": true,
 "allowAnalysis": true,
 "itemAccess": false,
 "inspectionCapabilities": "",
 "minPixelSize": 0,
 "maxPixelSize": 0,
 "copyrightText": "",
 "serviceDataType": "esriImageServiceDataTypeGeneric",
 "serviceSourceType": "esriImageServiceSourceTypeDataset",
 "objectIdField": "",
 "fields": [],
 "capabilities": "Mensuration,Image,Metadata",
 "defaultMosaicMethod": "Center",
 "allowedMosaicMethods": "",
 "sortField": "",
 "sortValue": null,
 "sortAscending": true,
 "mosaicOperator": "First",
 "defaultCompressionQuality": 75,
 "defaultResamplingMethod": "Bilinear",
 "maxImageHeight": 4100,
 "maxImageWidth": 15000,
 "allowRasterFunction": true,
 "rasterFunctionInfos": [
  {
   "name": "None",
   "description": "",
   "help": ""
  }
 ],
 "rasterTypeInfos": [
  {
   "name": "Raster Dataset",
   "description": "Supports all ArcGIS Raster Datasets",
   "help": ""
  }
 ],
 "mensurationCapabilities": "Basic",
 "hasHistograms": true,
 "hasColormap": false,
 "hasRasterAttributeTable": false,
 "minScale": 0,
 "maxScale": 0,
 "exportTilesAllowed": false,
 "supportsStatistics": false,
 "supportsAdvancedQueries": false,
 "editFieldsInfo": null,
 "ownershipBasedAccessControlForRasters": null,
 "allowComputeTiePoints": false,
 "useStandardizedQueries": true,
 "advancedQueryCapabilities": {
  "useStandardizedQueries": true,
  "supportsStatistics": false,
  "supportsOrderBy": false,
  "supportsDistinct": false,
  "supportsPagination": false
 },
 "spatialReference": {
  "wkid": 102721,
  "latestWkid": 102721
 }
}
