{
 "currentVersion": 11.2,
 "serviceDescription": "1% Water Surface Elevation Raster of Sheridan County North Dakota used for ID on the R8 Viewer",
 "name": "Region8_WSE/W_NDSheridanCo_01",
 "description": "1% Water Surface Elevation Raster of Sheridan County North Dakota used for ID on the R8 Viewer",
 "extent": {
  "xmin": 1925030.1780920064,
  "ymin": 118914.08274101134,
  "xmax": 2084844.5076920064,
  "ymax": 309909.13554101135,
  "spatialReference": {
   "wkid": 102720,
   "latestWkid": 102720
  }
 },
 "initialExtent": {
  "xmin": 1925030.1780920064,
  "ymin": 118914.08274101134,
  "xmax": 2084844.5076920064,
  "ymax": 309909.13554101135,
  "spatialReference": {
   "wkid": 102720,
   "latestWkid": 102720
  }
 },
 "fullExtent": {
  "xmin": 1925030.1780920064,
  "ymin": 118914.08274101134,
  "xmax": 2084844.5076920064,
  "ymax": 309909.13554101135,
  "spatialReference": {
   "wkid": 102720,
   "latestWkid": 102720
  }
 },
 "sortableFields": "",
 "bandCount": 1,
 "pixelType": "F32",
 "minValues": [
  1581.1209716796875
 ],
 "maxValues": [
  2014.068603515625
 ],
 "meanValues": [
  1799.810348563321
 ],
 "stdvValues": [
  147.05124354398697
 ],
 "hasMultidimensions": false,
 "pixelSizeX": 3.280800000000001,
 "pixelSizeY": 3.2808,
 "meanPixelSize": 0.9999898399796803,
 "datasetFormat": "FGDBR",
 "uncompressedSize": 11343271168,
 "blockWidth": 128,
 "blockHeight": 128,
 "compressionType": "NONE",
 "bandNames": [
  "Band_1"
 ],
 "allowCopy": true,
 "allowAnalysis": true,
 "itemAccess": false,
 "inspectionCapabilities": "",
 "minPixelSize": 0,
 "maxPixelSize": 0,
 "copyrightText": "",
 "serviceDataType": "esriImageServiceDataTypeGeneric",
 "serviceSourceType": "esriImageServiceSourceTypeDataset",
 "objectIdField": "",
 "fields": [],
 "capabilities": "Mensuration,Image,Metadata",
 "defaultMosaicMethod": "Center",
 "allowedMosaicMethods": "",
 "sortField": "",
 "sortValue": null,
 "sortAscending": true,
 "mosaicOperator": "First",
 "defaultCompressionQuality": 75,
 "defaultResamplingMethod": "Bilinear",
 "maxImageHeight": 4100,
 "maxImageWidth": 15000,
 "allowRasterFunction": true,
 "rasterFunctionInfos": [
  {
   "name": "None",
   "description": "",
   "help": ""
  }
 ],
 "rasterTypeInfos": [
  {
   "name": "Raster Dataset",
   "description": "Supports all ArcGIS Raster Datasets",
   "help": ""
  }
 ],
 "mensurationCapabilities": "Basic",
 "hasHistograms": true,
 "hasColormap": false,
 "hasRasterAttributeTable": false,
 "minScale": 0,
 "maxScale": 0,
 "exportTilesAllowed": false,
 "supportsStatistics": false,
 "supportsAdvancedQueries": false,
 "editFieldsInfo": null,
 "ownershipBasedAccessControlForRasters": null,
 "allowComputeTiePoints": false,
 "useStandardizedQueries": true,
 "advancedQueryCapabilities": {
  "useStandardizedQueries": true,
  "supportsStatistics": false,
  "supportsOrderBy": false,
  "supportsDistinct": false,
  "supportsPagination": false
 },
 "spatialReference": {
  "wkid": 102720,
  "latestWkid": 102720
 }
}
