{
 "currentVersion": 11.2,
 "serviceDescription": "1% Water Surface Elevation Raster of WellsCounty North Dakota used for ID on the R8 Viewer",
 "name": "Region8_WSE/W_NDWellsCo_01",
 "description": "1% Water Surface Elevation Raster of WellsCounty North Dakota used for ID on the R8 Viewer",
 "extent": {
  "xmin": 2073750.1628913786,
  "ymin": 119168.2600630032,
  "xmax": 2274974.3476422043,
  "ymax": 311701.6229955072,
  "spatialReference": {
   "wkid": 102720,
   "latestWkid": 102720
  }
 },
 "initialExtent": {
  "xmin": 2073750.1628913786,
  "ymin": 119168.2600630032,
  "xmax": 2274974.3476422043,
  "ymax": 311701.6229955072,
  "spatialReference": {
   "wkid": 102720,
   "latestWkid": 102720
  }
 },
 "fullExtent": {
  "xmin": 2073750.1628913786,
  "ymin": 119168.2600630032,
  "xmax": 2274974.3476422043,
  "ymax": 311701.6229955072,
  "spatialReference": {
   "wkid": 102720,
   "latestWkid": 102720
  }
 },
 "sortableFields": "",
 "bandCount": 1,
 "pixelType": "F32",
 "minValues": [
  1429.546875
 ],
 "maxValues": [
  2029.36328125
 ],
 "meanValues": [
  1661.406972200265
 ],
 "stdvValues": [
  117.84510163225067
 ],
 "hasMultidimensions": false,
 "pixelSizeX": 3.2807934384000004,
 "pixelSizeY": 3.2807934384000004,
 "meanPixelSize": 0.9999878400000003,
 "datasetFormat": "FGDBR",
 "uncompressedSize": 14397297824,
 "blockWidth": 128,
 "blockHeight": 128,
 "compressionType": "NONE",
 "bandNames": [
  "Band_1"
 ],
 "allowCopy": true,
 "allowAnalysis": true,
 "itemAccess": false,
 "inspectionCapabilities": "",
 "minPixelSize": 0,
 "maxPixelSize": 0,
 "copyrightText": "",
 "serviceDataType": "esriImageServiceDataTypeGeneric",
 "serviceSourceType": "esriImageServiceSourceTypeDataset",
 "objectIdField": "",
 "fields": [],
 "capabilities": "Mensuration,Image,Metadata",
 "defaultMosaicMethod": "Center",
 "allowedMosaicMethods": "",
 "sortField": "",
 "sortValue": null,
 "sortAscending": true,
 "mosaicOperator": "First",
 "defaultCompressionQuality": 75,
 "defaultResamplingMethod": "Bilinear",
 "maxImageHeight": 4100,
 "maxImageWidth": 15000,
 "allowRasterFunction": true,
 "rasterFunctionInfos": [
  {
   "name": "None",
   "description": "",
   "help": ""
  }
 ],
 "rasterTypeInfos": [
  {
   "name": "Raster Dataset",
   "description": "Supports all ArcGIS Raster Datasets",
   "help": ""
  }
 ],
 "mensurationCapabilities": "Basic",
 "hasHistograms": true,
 "hasColormap": false,
 "hasRasterAttributeTable": false,
 "minScale": 0,
 "maxScale": 0,
 "exportTilesAllowed": false,
 "supportsStatistics": false,
 "supportsAdvancedQueries": false,
 "editFieldsInfo": null,
 "ownershipBasedAccessControlForRasters": null,
 "allowComputeTiePoints": false,
 "useStandardizedQueries": true,
 "advancedQueryCapabilities": {
  "useStandardizedQueries": true,
  "supportsStatistics": false,
  "supportsOrderBy": false,
  "supportsDistinct": false,
  "supportsPagination": false
 },
 "spatialReference": {
  "wkid": 102720,
  "latestWkid": 102720
 }
}
