{
 "currentVersion": 11.2,
 "cimVersion": "3.2.0",
 "serviceDescription": "North Dakota Depth Visualization 1%",
 "mapName": "Layers",
 "description": "",
 "copyrightText": "",
 "supportsDynamicLayers": false,
 "layers": [
  {
   "id": 0,
   "name": "D_ND_01_3_Resample",
   "parentLayerId": -1,
   "defaultVisibility": true,
   "subLayerIds": null,
   "minScale": 500000,
   "maxScale": 1999.9999999995573,
   "type": "Raster Layer",
   "supportsDynamicLegends": true
  }
 ],
 "tables": [],
 "spatialReference": {
  "wkid": 102720,
  "latestWkid": 102720,
  "xyTolerance": 0.003280833333333333,
  "zTolerance": 0.001,
  "mTolerance": 0.001,
  "falseX": -116784100,
  "falseY": -99537700,
  "xyUnits": 3.792421915284798E7,
  "falseZ": -100000,
  "zUnits": 10000,
  "falseM": -100000,
  "mUnits": 10000
 },
 "singleFusedMapCache": true,
 "tileInfo": {
  "rows": 256,
  "cols": 256,
  "dpi": 96,
  "format": "MIXED",
  "compressionQuality": 75,
  "origin": {
   "x": -116784100,
   "y": 1.3796749999999997E8
  },
  "spatialReference": {
   "wkid": 102720,
   "latestWkid": 102720,
   "xyTolerance": 0.003280833333333333,
   "zTolerance": 0.001,
   "mTolerance": 0.001,
   "falseX": -116784100,
   "falseY": -99537700,
   "xyUnits": 3.792421915284798E7,
   "falseZ": -100000,
   "zUnits": 10000,
   "falseM": -100000,
   "mUnits": 10000
  },
  "lods": [
   {
    "level": 0,
    "resolution": 3472.222222222222,
    "scale": 4000000
   },
   {
    "level": 1,
    "resolution": 1736.111111111111,
    "scale": 2000000
   },
   {
    "level": 2,
    "resolution": 868.0555555555555,
    "scale": 1000000
   },
   {
    "level": 3,
    "resolution": 434.02777777777777,
    "scale": 500000
   },
   {
    "level": 4,
    "resolution": 217.01388888888889,
    "scale": 250000
   },
   {
    "level": 5,
    "resolution": 108.50694444444444,
    "scale": 125000
   },
   {
    "level": 6,
    "resolution": 55.55555555555555,
    "scale": 64000
   },
   {
    "level": 7,
    "resolution": 27.777777777777775,
    "scale": 32000
   },
   {
    "level": 8,
    "resolution": 13.888888888888888,
    "scale": 16000
   },
   {
    "level": 9,
    "resolution": 6.944444444444444,
    "scale": 8000
   }
  ]
 },
 "storageInfo": {
  "storageFormat": "esriMapCacheStorageModeCompactV2",
  "packetSize": 128
 },
 "initialExtent": {
  "xmin": 2575794.975864519,
  "ymin": 158569.74853003494,
  "xmax": 2585142.198086741,
  "ymax": 162514.1929744799,
  "spatialReference": {
   "wkid": 102720,
   "latestWkid": 102720,
   "xyTolerance": 0.003280833333333333,
   "zTolerance": 0.001,
   "mTolerance": 0.001,
   "falseX": -116784100,
   "falseY": -99537700,
   "xyUnits": 3.792421915284798E7,
   "falseZ": -100000,
   "zUnits": 10000,
   "falseM": -100000,
   "mUnits": 10000
  }
 },
 "fullExtent": {
  "xmin": 1008834.6849848926,
  "ymin": -445114.48490911187,
  "xmax": 2971174.6849848926,
  "ymax": 749665.5150908881,
  "spatialReference": {
   "wkid": 102720,
   "latestWkid": 102720,
   "xyTolerance": 0.003280833333333333,
   "zTolerance": 0.001,
   "mTolerance": 0.001,
   "falseX": -116784100,
   "falseY": -99537700,
   "xyUnits": 3.792421915284798E7,
   "falseZ": -100000,
   "zUnits": 10000,
   "falseM": -100000,
   "mUnits": 10000
  }
 },
 "datesInUnknownTimezone": false,
 "minScale": 500000,
 "maxScale": 8000,
 "units": "esriFeet",
 "supportedImageFormatTypes": "PNG32,PNG24,PNG,JPG,DIB,TIFF,EMF,PS,PDF,GIF,SVG,SVGZ,BMP",
 "documentInfo": {
  "Title": "",
  "Author": "",
  "Comments": "",
  "Subject": "",
  "Category": "",
  "Version": "10.1",
  "AntialiasingMode": "None",
  "TextAntialiasingMode": "Force",
  "Keywords": "ND,North Dakota,1%,MIT,R8,Depth"
 },
 "supportsQueryDomains": true,
 "capabilities": "Map,Tilemap",
 "supportedQueryFormats": "JSON, geoJSON, PBF",
 "exportTilesAllowed": false,
 "referenceScale": 0.0,
 "supportsDatumTransformation": true,
 "archivingInfo": {
  "supportsHistoricMoment": false
 },
 "supportsClipping": true,
 "supportsSpatialFilter": true,
 "supportsTimeRelation": true,
 "supportsQueryDataElements": true,
 "mapUnits": {
  "uwkid": 9003
 },
 "maxRecordCount": 1000,
 "maxImageHeight": 4096,
 "maxImageWidth": 4096,
 "supportedExtensions": "",
 "serviceItemId": "1da62d20b6d34b86a5c400c68eaed578"
}
