{
 "currentVersion": 11.2,
 "serviceDescription": "Water Surface Elevation, R8, MIT, .1%, South Dakota, ",
 "name": "WSE_01/WSE_SD_01",
 "description": "Water Surface Elevation, R8, MIT, .1%, South Dakota, ",
 "extent": {
  "xmin": 2291339.096501455,
  "ymin": -474567.4678417449,
  "xmax": 2928508.693990653,
  "ymax": 784912.9464029921,
  "spatialReference": {
   "wkid": 103149,
   "latestWkid": 6572
  }
 },
 "initialExtent": {
  "xmin": 2291339.096501455,
  "ymin": -474567.4678417449,
  "xmax": 2928508.693990653,
  "ymax": 784912.9464029921,
  "spatialReference": {
   "wkid": 103149,
   "latestWkid": 6572
  }
 },
 "fullExtent": {
  "xmin": 2291339.096501455,
  "ymin": -474567.4678417449,
  "xmax": 2928508.693990653,
  "ymax": 784912.9464029921,
  "spatialReference": {
   "wkid": 103149,
   "latestWkid": 6572
  }
 },
 "sortableFields": "",
 "bandCount": 1,
 "pixelType": "F32",
 "minValues": [
  943.5999755859375
 ],
 "maxValues": [
  2096
 ],
 "meanValues": [
  1423.3402892782012
 ],
 "stdvValues": [
  220.59708779588394
 ],
 "hasMultidimensions": false,
 "pixelSizeX": 2.999955730599397,
 "pixelSizeY": 2.999955730599398,
 "meanPixelSize": 0.9143883354633674,
 "datasetFormat": "FGDBR",
 "uncompressedSize": 356678361476,
 "blockWidth": 128,
 "blockHeight": 128,
 "compressionType": "LZ77",
 "bandNames": [
  "Band_1"
 ],
 "allowCopy": true,
 "allowAnalysis": true,
 "itemAccess": false,
 "inspectionCapabilities": "",
 "minPixelSize": 0,
 "maxPixelSize": 0,
 "copyrightText": "",
 "serviceDataType": "esriImageServiceDataTypeGeneric",
 "serviceSourceType": "esriImageServiceSourceTypeDataset",
 "objectIdField": "",
 "fields": [],
 "capabilities": "Image,Metadata,Mensuration",
 "defaultMosaicMethod": "Center",
 "allowedMosaicMethods": "",
 "sortField": "",
 "sortValue": null,
 "sortAscending": true,
 "mosaicOperator": "First",
 "defaultCompressionQuality": 75,
 "defaultResamplingMethod": "Bilinear",
 "maxImageHeight": 4100,
 "maxImageWidth": 15000,
 "allowRasterFunction": true,
 "rasterFunctionInfos": [
  {
   "name": "None",
   "description": "",
   "help": ""
  }
 ],
 "rasterTypeInfos": [
  {
   "name": "Raster Dataset",
   "description": "Supports all ArcGIS Raster Datasets",
   "help": ""
  }
 ],
 "mensurationCapabilities": "Basic",
 "hasHistograms": true,
 "hasColormap": false,
 "hasRasterAttributeTable": false,
 "minScale": 0,
 "maxScale": 0,
 "exportTilesAllowed": false,
 "supportsStatistics": false,
 "supportsAdvancedQueries": false,
 "editFieldsInfo": null,
 "ownershipBasedAccessControlForRasters": null,
 "allowComputeTiePoints": false,
 "useStandardizedQueries": true,
 "advancedQueryCapabilities": {
  "useStandardizedQueries": true,
  "supportsStatistics": false,
  "supportsOrderBy": false,
  "supportsDistinct": false,
  "supportsPagination": false
 },
 "spatialReference": {
  "wkid": 103149,
  "latestWkid": 6572
 }
}
