{
 "currentVersion": 11.2,
 "serviceDescription": "1% Water Surface Elevation Raster of Golden Valley County North Dakota used for ID on the R8 Viewer",
 "name": "WSE_01/W_NDGoldenValleyCo_01",
 "description": "1% Water Surface Elevation Raster of Golden Valley County North Dakota used for ID on the R8 Viewer",
 "extent": {
  "xmin": 1076197.7614840707,
  "ymin": 335711.3907631018,
  "xmax": 1193043.4534840707,
  "ymax": 626997.2187631018,
  "spatialReference": {
   "wkid": 102721,
   "latestWkid": 102721
  }
 },
 "initialExtent": {
  "xmin": 1076197.7614840707,
  "ymin": 335711.3907631018,
  "xmax": 1193043.4534840707,
  "ymax": 626997.2187631018,
  "spatialReference": {
   "wkid": 102721,
   "latestWkid": 102721
  }
 },
 "fullExtent": {
  "xmin": 1076197.7614840707,
  "ymin": 335711.3907631018,
  "xmax": 1193043.4534840707,
  "ymax": 626997.2187631018,
  "spatialReference": {
   "wkid": 102721,
   "latestWkid": 102721
  }
 },
 "sortableFields": "",
 "bandCount": 1,
 "pixelType": "F32",
 "minValues": [
  2101.3005371094
 ],
 "maxValues": [
  3162.0021972656
 ],
 "meanValues": [
  2507.4986249359
 ],
 "stdvValues": [
  206.24964055299
 ],
 "hasMultidimensions": false,
 "pixelSizeX": 3.280800000000001,
 "pixelSizeY": 3.2808000000000006,
 "meanPixelSize": 0.9999898399796804,
 "datasetFormat": "TIFF",
 "uncompressedSize": 12648311100,
 "blockWidth": 128,
 "blockHeight": 128,
 "compressionType": "None",
 "bandNames": [
  "Band_1"
 ],
 "allowCopy": true,
 "allowAnalysis": true,
 "itemAccess": false,
 "inspectionCapabilities": "",
 "noDataValue": -3.4028234663852886E38,
 "noDataValues": [
  -3.4028234663852886E38
 ],
 "minPixelSize": 0,
 "maxPixelSize": 0,
 "copyrightText": "",
 "serviceDataType": "esriImageServiceDataTypeGeneric",
 "serviceSourceType": "esriImageServiceSourceTypeDataset",
 "objectIdField": "",
 "fields": [],
 "capabilities": "Image,Metadata,Mensuration",
 "defaultMosaicMethod": "Center",
 "allowedMosaicMethods": "",
 "sortField": "",
 "sortValue": null,
 "sortAscending": true,
 "mosaicOperator": "First",
 "defaultCompressionQuality": 75,
 "defaultResamplingMethod": "Bilinear",
 "maxImageHeight": 4100,
 "maxImageWidth": 15000,
 "allowRasterFunction": true,
 "rasterFunctionInfos": [
  {
   "name": "None",
   "description": "",
   "help": ""
  }
 ],
 "rasterTypeInfos": [
  {
   "name": "Raster Dataset",
   "description": "Supports all ArcGIS Raster Datasets",
   "help": ""
  }
 ],
 "mensurationCapabilities": "Basic",
 "hasHistograms": false,
 "hasColormap": false,
 "hasRasterAttributeTable": false,
 "minScale": 0,
 "maxScale": 0,
 "exportTilesAllowed": false,
 "supportsStatistics": false,
 "supportsAdvancedQueries": false,
 "editFieldsInfo": null,
 "ownershipBasedAccessControlForRasters": null,
 "allowComputeTiePoints": false,
 "useStandardizedQueries": true,
 "advancedQueryCapabilities": {
  "useStandardizedQueries": true,
  "supportsStatistics": false,
  "supportsOrderBy": false,
  "supportsDistinct": false,
  "supportsPagination": false
 },
 "spatialReference": {
  "wkid": 102721,
  "latestWkid": 102721
 }
}
