{
 "currentVersion": 11.2,
 "serviceDescription": "1% Water Surface Elevation Raster of Traill County North Dakota used for ID on the R8 Viewer",
 "name": "WSE_01/W_NDTraillCo_01",
 "description": "1% Water Surface Elevation Raster of Traill County North Dakota used for ID on the R8 Viewer",
 "extent": {
  "xmin": 2714151.3343434944,
  "ymin": 102188.28399313852,
  "xmax": 2874920.3767434945,
  "ymax": 265982.2239931385,
  "spatialReference": {
   "wkid": 102720,
   "latestWkid": 102720
  }
 },
 "initialExtent": {
  "xmin": 2714151.3343434944,
  "ymin": 102188.28399313852,
  "xmax": 2874920.3767434945,
  "ymax": 265982.2239931385,
  "spatialReference": {
   "wkid": 102720,
   "latestWkid": 102720
  }
 },
 "fullExtent": {
  "xmin": 2714151.3343434944,
  "ymin": 102188.28399313852,
  "xmax": 2874920.3767434945,
  "ymax": 265982.2239931385,
  "spatialReference": {
   "wkid": 102720,
   "latestWkid": 102720
  }
 },
 "sortableFields": "",
 "bandCount": 1,
 "pixelType": "F32",
 "minValues": [
  813.40002441406
 ],
 "maxValues": [
  1182.1999511719
 ],
 "meanValues": [
  931.78968577573
 ],
 "stdvValues": [
  61.212233854494
 ],
 "hasMultidimensions": false,
 "pixelSizeX": 3.2808000000000033,
 "pixelSizeY": 3.2808,
 "meanPixelSize": 0.9999898399796807,
 "datasetFormat": "TIFF",
 "uncompressedSize": 9785899100,
 "blockWidth": 128,
 "blockHeight": 128,
 "compressionType": "None",
 "bandNames": [
  "Band_1"
 ],
 "allowCopy": true,
 "allowAnalysis": true,
 "itemAccess": false,
 "inspectionCapabilities": "",
 "noDataValue": -3.4028234663852886E38,
 "noDataValues": [
  -3.4028234663852886E38
 ],
 "minPixelSize": 0,
 "maxPixelSize": 0,
 "copyrightText": "",
 "serviceDataType": "esriImageServiceDataTypeGeneric",
 "serviceSourceType": "esriImageServiceSourceTypeDataset",
 "objectIdField": "",
 "fields": [],
 "capabilities": "Image,Metadata,Mensuration",
 "defaultMosaicMethod": "Center",
 "allowedMosaicMethods": "",
 "sortField": "",
 "sortValue": null,
 "sortAscending": true,
 "mosaicOperator": "First",
 "defaultCompressionQuality": 75,
 "defaultResamplingMethod": "Bilinear",
 "maxImageHeight": 4100,
 "maxImageWidth": 15000,
 "allowRasterFunction": true,
 "rasterFunctionInfos": [
  {
   "name": "None",
   "description": "",
   "help": ""
  }
 ],
 "rasterTypeInfos": [
  {
   "name": "Raster Dataset",
   "description": "Supports all ArcGIS Raster Datasets",
   "help": ""
  }
 ],
 "mensurationCapabilities": "Basic",
 "hasHistograms": false,
 "hasColormap": false,
 "hasRasterAttributeTable": false,
 "minScale": 0,
 "maxScale": 0,
 "exportTilesAllowed": false,
 "supportsStatistics": false,
 "supportsAdvancedQueries": false,
 "editFieldsInfo": null,
 "ownershipBasedAccessControlForRasters": null,
 "allowComputeTiePoints": false,
 "useStandardizedQueries": true,
 "advancedQueryCapabilities": {
  "useStandardizedQueries": true,
  "supportsStatistics": false,
  "supportsOrderBy": false,
  "supportsDistinct": false,
  "supportsPagination": false
 },
 "spatialReference": {
  "wkid": 102720,
  "latestWkid": 102720
 }
}
