{
 "currentVersion": 11.2,
 "serviceDescription": "Water Surface Elevation, R8, MIT, .02%, NorthDakota, Disk1",
 "name": "WSE_02/WSE_ND_0_2_d1",
 "description": "Water Surface Elevation, R8, MIT, .02%, NorthDakota, Disk1",
 "extent": {
  "xmin": 1605643.1371481419,
  "ymin": 766625.0593598112,
  "xmax": 2762653.3459481415,
  "ymax": 1894134.3145598108,
  "spatialReference": {
   "wkid": 3454,
   "latestWkid": 4457
  }
 },
 "initialExtent": {
  "xmin": 1605643.1371481419,
  "ymin": 766625.0593598112,
  "xmax": 2762653.3459481415,
  "ymax": 1894134.3145598108,
  "spatialReference": {
   "wkid": 3454,
   "latestWkid": 4457
  }
 },
 "fullExtent": {
  "xmin": 1605643.1371481419,
  "ymin": 766625.0593598112,
  "xmax": 2762653.3459481415,
  "ymax": 1894134.3145598108,
  "spatialReference": {
   "wkid": 3454,
   "latestWkid": 4457
  }
 },
 "sortableFields": "",
 "bandCount": 1,
 "pixelType": "F32",
 "minValues": [
  812.693115234375
 ],
 "maxValues": [
  2440.67236328125
 ],
 "meanValues": [
  1388.6310782665444
 ],
 "stdvValues": [
  342.67991839224123
 ],
 "hasMultidimensions": false,
 "pixelSizeX": 3.2807999999999993,
 "pixelSizeY": 3.280799999999999,
 "meanPixelSize": 0.9999898399796798,
 "datasetFormat": "FGDBR",
 "uncompressedSize": 484794612836,
 "blockWidth": 128,
 "blockHeight": 128,
 "compressionType": "LZ77",
 "bandNames": [
  "Band_1"
 ],
 "allowCopy": true,
 "allowAnalysis": true,
 "itemAccess": false,
 "inspectionCapabilities": "",
 "minPixelSize": 0,
 "maxPixelSize": 0,
 "copyrightText": "",
 "serviceDataType": "esriImageServiceDataTypeGeneric",
 "serviceSourceType": "esriImageServiceSourceTypeDataset",
 "objectIdField": "",
 "fields": [],
 "capabilities": "Image,Metadata,Mensuration",
 "defaultMosaicMethod": "Center",
 "allowedMosaicMethods": "",
 "sortField": "",
 "sortValue": null,
 "sortAscending": true,
 "mosaicOperator": "First",
 "defaultCompressionQuality": 75,
 "defaultResamplingMethod": "Bilinear",
 "maxImageHeight": 4100,
 "maxImageWidth": 15000,
 "allowRasterFunction": true,
 "rasterFunctionInfos": [
  {
   "name": "None",
   "description": "",
   "help": ""
  }
 ],
 "rasterTypeInfos": [
  {
   "name": "Raster Dataset",
   "description": "Supports all ArcGIS Raster Datasets",
   "help": ""
  }
 ],
 "mensurationCapabilities": "Basic",
 "hasHistograms": true,
 "hasColormap": false,
 "hasRasterAttributeTable": false,
 "minScale": 0,
 "maxScale": 0,
 "exportTilesAllowed": false,
 "supportsStatistics": false,
 "supportsAdvancedQueries": false,
 "editFieldsInfo": null,
 "ownershipBasedAccessControlForRasters": null,
 "allowComputeTiePoints": false,
 "useStandardizedQueries": true,
 "advancedQueryCapabilities": {
  "useStandardizedQueries": true,
  "supportsStatistics": false,
  "supportsOrderBy": false,
  "supportsDistinct": false,
  "supportsPagination": false
 },
 "spatialReference": {
  "wkid": 3454,
  "latestWkid": 4457
 }
}
