{
 "currentVersion": 11.2,
 "serviceDescription": "Water Surface Elevation, R8, MIT, .02%, South Dakota, ",
 "name": "WSE_02/WSE_SD_0_2",
 "description": "Water Surface Elevation, R8, MIT, .02%, South Dakota, ",
 "extent": {
  "xmin": 2293049.228275282,
  "ymin": -474568.2817207484,
  "xmax": 2928508.850998038,
  "ymax": 784912.1325239886,
  "spatialReference": {
   "wkid": 103149,
   "latestWkid": 6572
  }
 },
 "initialExtent": {
  "xmin": 2293049.228275282,
  "ymin": -474568.2817207484,
  "xmax": 2928508.850998038,
  "ymax": 784912.1325239886,
  "spatialReference": {
   "wkid": 103149,
   "latestWkid": 6572
  }
 },
 "fullExtent": {
  "xmin": 2293049.228275282,
  "ymin": -474568.2817207484,
  "xmax": 2928508.850998038,
  "ymax": 784912.1325239886,
  "spatialReference": {
   "wkid": 103149,
   "latestWkid": 6572
  }
 },
 "sortableFields": "",
 "bandCount": 1,
 "pixelType": "F32",
 "minValues": [
  0
 ],
 "maxValues": [
  2103
 ],
 "meanValues": [
  1414.3934063808217
 ],
 "stdvValues": [
  217.36467099761933
 ],
 "hasMultidimensions": false,
 "pixelSizeX": 2.9999557305993974,
 "pixelSizeY": 2.999955730599398,
 "meanPixelSize": 0.9143883354633675,
 "datasetFormat": "FGDBR",
 "uncompressedSize": 355721142236,
 "blockWidth": 128,
 "blockHeight": 128,
 "compressionType": "LZ77",
 "bandNames": [
  "Band_1"
 ],
 "allowCopy": true,
 "allowAnalysis": true,
 "itemAccess": false,
 "inspectionCapabilities": "",
 "minPixelSize": 0,
 "maxPixelSize": 0,
 "copyrightText": "",
 "serviceDataType": "esriImageServiceDataTypeGeneric",
 "serviceSourceType": "esriImageServiceSourceTypeDataset",
 "objectIdField": "",
 "fields": [],
 "capabilities": "Image,Metadata,Mensuration",
 "defaultMosaicMethod": "Center",
 "allowedMosaicMethods": "",
 "sortField": "",
 "sortValue": null,
 "sortAscending": true,
 "mosaicOperator": "First",
 "defaultCompressionQuality": 75,
 "defaultResamplingMethod": "Bilinear",
 "maxImageHeight": 4100,
 "maxImageWidth": 15000,
 "allowRasterFunction": true,
 "rasterFunctionInfos": [
  {
   "name": "None",
   "description": "",
   "help": ""
  }
 ],
 "rasterTypeInfos": [
  {
   "name": "Raster Dataset",
   "description": "Supports all ArcGIS Raster Datasets",
   "help": ""
  }
 ],
 "mensurationCapabilities": "Basic",
 "hasHistograms": true,
 "hasColormap": false,
 "hasRasterAttributeTable": false,
 "minScale": 0,
 "maxScale": 0,
 "exportTilesAllowed": false,
 "supportsStatistics": false,
 "supportsAdvancedQueries": false,
 "editFieldsInfo": null,
 "ownershipBasedAccessControlForRasters": null,
 "allowComputeTiePoints": false,
 "useStandardizedQueries": true,
 "advancedQueryCapabilities": {
  "useStandardizedQueries": true,
  "supportsStatistics": false,
  "supportsOrderBy": false,
  "supportsDistinct": false,
  "supportsPagination": false
 },
 "spatialReference": {
  "wkid": 103149,
  "latestWkid": 6572
 }
}
