{
 "currentVersion": 11.2,
 "serviceDescription": ".02% Water Surface Elevation Raster of McHenry County North Dakota used for ID on the R8 Viewer",
 "name": "WSE_02/W_NDMcHenryCo_0_2",
 "description": ".02% Water Surface Elevation Raster of McHenry County North Dakota used for ID on the R8 Viewer",
 "extent": {
  "xmin": 1831904.5024886185,
  "ymin": 308608.3025342572,
  "xmax": 2043178.1800886185,
  "ymax": 596449.2905342572,
  "spatialReference": {
   "wkid": 102720,
   "latestWkid": 102720
  }
 },
 "initialExtent": {
  "xmin": 1831904.5024886185,
  "ymin": 308608.3025342572,
  "xmax": 2043178.1800886185,
  "ymax": 596449.2905342572,
  "spatialReference": {
   "wkid": 102720,
   "latestWkid": 102720
  }
 },
 "fullExtent": {
  "xmin": 1831904.5024886185,
  "ymin": 308608.3025342572,
  "xmax": 2043178.1800886185,
  "ymax": 596449.2905342572,
  "spatialReference": {
   "wkid": 102720,
   "latestWkid": 102720
  }
 },
 "sortableFields": "",
 "bandCount": 1,
 "pixelType": "F32",
 "minValues": [
  1432.7298583984375
 ],
 "maxValues": [
  2084.84619140625
 ],
 "meanValues": [
  1501.1692269911591
 ],
 "stdvValues": [
  56.8409152496684
 ],
 "hasMultidimensions": false,
 "pixelSizeX": 3.280800000000001,
 "pixelSizeY": 3.2808,
 "meanPixelSize": 0.9999898399796803,
 "datasetFormat": "FGDBR",
 "uncompressedSize": 22599132240,
 "blockWidth": 128,
 "blockHeight": 128,
 "compressionType": "NONE",
 "bandNames": [
  "Band_1"
 ],
 "allowCopy": true,
 "allowAnalysis": true,
 "itemAccess": false,
 "inspectionCapabilities": "",
 "minPixelSize": 0,
 "maxPixelSize": 0,
 "copyrightText": "",
 "serviceDataType": "esriImageServiceDataTypeGeneric",
 "serviceSourceType": "esriImageServiceSourceTypeDataset",
 "objectIdField": "",
 "fields": [],
 "capabilities": "Image,Metadata,Mensuration",
 "defaultMosaicMethod": "Center",
 "allowedMosaicMethods": "",
 "sortField": "",
 "sortValue": null,
 "sortAscending": true,
 "mosaicOperator": "First",
 "defaultCompressionQuality": 75,
 "defaultResamplingMethod": "Bilinear",
 "maxImageHeight": 4100,
 "maxImageWidth": 15000,
 "allowRasterFunction": true,
 "rasterFunctionInfos": [
  {
   "name": "None",
   "description": "",
   "help": ""
  }
 ],
 "rasterTypeInfos": [
  {
   "name": "Raster Dataset",
   "description": "Supports all ArcGIS Raster Datasets",
   "help": ""
  }
 ],
 "mensurationCapabilities": "Basic",
 "hasHistograms": true,
 "hasColormap": false,
 "hasRasterAttributeTable": false,
 "minScale": 0,
 "maxScale": 0,
 "exportTilesAllowed": false,
 "supportsStatistics": false,
 "supportsAdvancedQueries": false,
 "editFieldsInfo": null,
 "ownershipBasedAccessControlForRasters": null,
 "allowComputeTiePoints": false,
 "useStandardizedQueries": true,
 "advancedQueryCapabilities": {
  "useStandardizedQueries": true,
  "supportsStatistics": false,
  "supportsOrderBy": false,
  "supportsDistinct": false,
  "supportsPagination": false
 },
 "spatialReference": {
  "wkid": 102720,
  "latestWkid": 102720
 }
}
