{
 "currentVersion": 11.2,
 "serviceDescription": ".02% Water Surface Elevation Raster of McKenzie County North Dakota used for ID on the R8 Viewer\n",
 "name": "WSE_02/W_NDMcKenzieCo02",
 "description": ".02% Water Surface Elevation Raster of McKenzie County North Dakota used for ID on the R8 Viewer\n",
 "extent": {
  "xmin": 1089086.4467257373,
  "ymin": 130377.61076271586,
  "xmax": 1466699.9651257372,
  "ymax": 429445.4963627159,
  "spatialReference": {
   "wkid": 102720,
   "latestWkid": 102720
  }
 },
 "initialExtent": {
  "xmin": 1089086.4467257373,
  "ymin": 130377.61076271586,
  "xmax": 1466699.9651257372,
  "ymax": 429445.4963627159,
  "spatialReference": {
   "wkid": 102720,
   "latestWkid": 102720
  }
 },
 "fullExtent": {
  "xmin": 1089086.4467257373,
  "ymin": 130377.61076271586,
  "xmax": 1466699.9651257372,
  "ymax": 429445.4963627159,
  "spatialReference": {
   "wkid": 102720,
   "latestWkid": 102720
  }
 },
 "sortableFields": "",
 "bandCount": 1,
 "pixelType": "F32",
 "minValues": [
  1856.1409912109
 ],
 "maxValues": [
  2614.8366699219
 ],
 "meanValues": [
  1948.0331439425
 ],
 "stdvValues": [
  126.30612416801
 ],
 "hasMultidimensions": false,
 "pixelSizeX": 3.2807999999999997,
 "pixelSizeY": 3.2808000000000006,
 "meanPixelSize": 0.9999898399796802,
 "datasetFormat": "TIFF",
 "uncompressedSize": 41967588916,
 "blockWidth": 128,
 "blockHeight": 128,
 "compressionType": "None",
 "bandNames": [
  "Band_1"
 ],
 "allowCopy": true,
 "allowAnalysis": true,
 "itemAccess": false,
 "inspectionCapabilities": "",
 "noDataValue": -3.4028234663852886E38,
 "noDataValues": [
  -3.4028234663852886E38
 ],
 "minPixelSize": 0,
 "maxPixelSize": 0,
 "copyrightText": "",
 "serviceDataType": "esriImageServiceDataTypeGeneric",
 "serviceSourceType": "esriImageServiceSourceTypeDataset",
 "objectIdField": "",
 "fields": [],
 "capabilities": "Image,Metadata,Mensuration",
 "defaultMosaicMethod": "Center",
 "allowedMosaicMethods": "",
 "sortField": "",
 "sortValue": null,
 "sortAscending": true,
 "mosaicOperator": "First",
 "defaultCompressionQuality": 75,
 "defaultResamplingMethod": "Bilinear",
 "maxImageHeight": 4100,
 "maxImageWidth": 15000,
 "allowRasterFunction": true,
 "rasterFunctionInfos": [
  {
   "name": "None",
   "description": "",
   "help": ""
  }
 ],
 "rasterTypeInfos": [
  {
   "name": "Raster Dataset",
   "description": "Supports all ArcGIS Raster Datasets",
   "help": ""
  }
 ],
 "mensurationCapabilities": "Basic",
 "hasHistograms": false,
 "hasColormap": false,
 "hasRasterAttributeTable": false,
 "minScale": 0,
 "maxScale": 0,
 "exportTilesAllowed": false,
 "supportsStatistics": false,
 "supportsAdvancedQueries": false,
 "editFieldsInfo": null,
 "ownershipBasedAccessControlForRasters": null,
 "allowComputeTiePoints": false,
 "useStandardizedQueries": true,
 "advancedQueryCapabilities": {
  "useStandardizedQueries": true,
  "supportsStatistics": false,
  "supportsOrderBy": false,
  "supportsDistinct": false,
  "supportsPagination": false
 },
 "spatialReference": {
  "wkid": 102720,
  "latestWkid": 102720
 }
}
