{
 "currentVersion": 11.2,
 "serviceDescription": ".02% Water Surface Elevation Raster of Nelson County North Dakota used for ID on the R8 Viewer ",
 "name": "WSE_02/W_NDNelsonCo_0_2",
 "description": ".02% Water Surface Elevation Raster of Nelson County North Dakota used for ID on the R8 Viewer ",
 "extent": {
  "xmin": 2451116.676390192,
  "ymin": 250974.89341265897,
  "xmax": 2613808.267590192,
  "ymax": 447019.097412659,
  "spatialReference": {
   "wkid": 102720,
   "latestWkid": 102720
  }
 },
 "initialExtent": {
  "xmin": 2451116.676390192,
  "ymin": 250974.89341265897,
  "xmax": 2613808.267590192,
  "ymax": 447019.097412659,
  "spatialReference": {
   "wkid": 102720,
   "latestWkid": 102720
  }
 },
 "fullExtent": {
  "xmin": 2451116.676390192,
  "ymin": 250974.89341265897,
  "xmax": 2613808.267590192,
  "ymax": 447019.097412659,
  "spatialReference": {
   "wkid": 102720,
   "latestWkid": 102720
  }
 },
 "sortableFields": "",
 "bandCount": 1,
 "pixelType": "F32",
 "minValues": [
  1287.78955078125
 ],
 "maxValues": [
  1557.573486328125
 ],
 "meanValues": [
  1493.6769842562248
 ],
 "stdvValues": [
  37.71439071137747
 ],
 "hasMultidimensions": false,
 "pixelSizeX": 3.280800000000003,
 "pixelSizeY": 3.2808,
 "meanPixelSize": 0.9999898399796805,
 "datasetFormat": "FGDBR",
 "uncompressedSize": 11852762780,
 "blockWidth": 128,
 "blockHeight": 128,
 "compressionType": "NONE",
 "bandNames": [
  "Band_1"
 ],
 "allowCopy": true,
 "allowAnalysis": true,
 "itemAccess": false,
 "inspectionCapabilities": "",
 "minPixelSize": 0,
 "maxPixelSize": 0,
 "copyrightText": "",
 "serviceDataType": "esriImageServiceDataTypeGeneric",
 "serviceSourceType": "esriImageServiceSourceTypeDataset",
 "objectIdField": "",
 "fields": [],
 "capabilities": "Image,Metadata,Mensuration",
 "defaultMosaicMethod": "Center",
 "allowedMosaicMethods": "",
 "sortField": "",
 "sortValue": null,
 "sortAscending": true,
 "mosaicOperator": "First",
 "defaultCompressionQuality": 75,
 "defaultResamplingMethod": "Bilinear",
 "maxImageHeight": 4100,
 "maxImageWidth": 15000,
 "allowRasterFunction": true,
 "rasterFunctionInfos": [
  {
   "name": "None",
   "description": "",
   "help": ""
  }
 ],
 "rasterTypeInfos": [
  {
   "name": "Raster Dataset",
   "description": "Supports all ArcGIS Raster Datasets",
   "help": ""
  }
 ],
 "mensurationCapabilities": "Basic",
 "hasHistograms": true,
 "hasColormap": false,
 "hasRasterAttributeTable": false,
 "minScale": 0,
 "maxScale": 0,
 "exportTilesAllowed": false,
 "supportsStatistics": false,
 "supportsAdvancedQueries": false,
 "editFieldsInfo": null,
 "ownershipBasedAccessControlForRasters": null,
 "allowComputeTiePoints": false,
 "useStandardizedQueries": true,
 "advancedQueryCapabilities": {
  "useStandardizedQueries": true,
  "supportsStatistics": false,
  "supportsOrderBy": false,
  "supportsDistinct": false,
  "supportsPagination": false
 },
 "spatialReference": {
  "wkid": 102720,
  "latestWkid": 102720
 }
}
