{
 "currentVersion": 11.2,
 "serviceDescription": ".02% Water Surface Elevation Raster of Pembina County North Dakota used for ID on the R8 Viewer",
 "name": "WSE_02/W_NDPembinaCo_0_2",
 "description": ".02% Water Surface Elevation Raster of Pembina County North Dakota used for ID on the R8 Viewer",
 "extent": {
  "xmin": 2580082.4960031877,
  "ymin": 572835.5804925926,
  "xmax": 2779295.9528031875,
  "ymax": 746904.9860925926,
  "spatialReference": {
   "wkid": 102720,
   "latestWkid": 102720
  }
 },
 "initialExtent": {
  "xmin": 2580082.4960031877,
  "ymin": 572835.5804925926,
  "xmax": 2779295.9528031875,
  "ymax": 746904.9860925926,
  "spatialReference": {
   "wkid": 102720,
   "latestWkid": 102720
  }
 },
 "fullExtent": {
  "xmin": 2580082.4960031877,
  "ymin": 572835.5804925926,
  "xmax": 2779295.9528031875,
  "ymax": 746904.9860925926,
  "spatialReference": {
   "wkid": 102720,
   "latestWkid": 102720
  }
 },
 "sortableFields": "",
 "bandCount": 1,
 "pixelType": "F32",
 "minValues": [
  783.0250854492188
 ],
 "maxValues": [
  1318.7967529296875
 ],
 "meanValues": [
  860.0072405695676
 ],
 "stdvValues": [
  74.74376172401992
 ],
 "hasMultidimensions": false,
 "pixelSizeX": 3.280799999999997,
 "pixelSizeY": 3.280799999999999,
 "meanPixelSize": 0.9999898399796795,
 "datasetFormat": "FGDBR",
 "uncompressedSize": 12886696388,
 "blockWidth": 128,
 "blockHeight": 128,
 "compressionType": "NONE",
 "bandNames": [
  "Band_1"
 ],
 "allowCopy": true,
 "allowAnalysis": true,
 "itemAccess": false,
 "inspectionCapabilities": "",
 "minPixelSize": 0,
 "maxPixelSize": 0,
 "copyrightText": "",
 "serviceDataType": "esriImageServiceDataTypeGeneric",
 "serviceSourceType": "esriImageServiceSourceTypeDataset",
 "objectIdField": "",
 "fields": [],
 "capabilities": "Image,Metadata,Mensuration",
 "defaultMosaicMethod": "Center",
 "allowedMosaicMethods": "",
 "sortField": "",
 "sortValue": null,
 "sortAscending": true,
 "mosaicOperator": "First",
 "defaultCompressionQuality": 75,
 "defaultResamplingMethod": "Bilinear",
 "maxImageHeight": 4100,
 "maxImageWidth": 15000,
 "allowRasterFunction": true,
 "rasterFunctionInfos": [
  {
   "name": "None",
   "description": "",
   "help": ""
  }
 ],
 "rasterTypeInfos": [
  {
   "name": "Raster Dataset",
   "description": "Supports all ArcGIS Raster Datasets",
   "help": ""
  }
 ],
 "mensurationCapabilities": "Basic",
 "hasHistograms": true,
 "hasColormap": false,
 "hasRasterAttributeTable": false,
 "minScale": 0,
 "maxScale": 0,
 "exportTilesAllowed": false,
 "supportsStatistics": false,
 "supportsAdvancedQueries": false,
 "editFieldsInfo": null,
 "ownershipBasedAccessControlForRasters": null,
 "allowComputeTiePoints": false,
 "useStandardizedQueries": true,
 "advancedQueryCapabilities": {
  "useStandardizedQueries": true,
  "supportsStatistics": false,
  "supportsOrderBy": false,
  "supportsDistinct": false,
  "supportsPagination": false
 },
 "spatialReference": {
  "wkid": 102720,
  "latestWkid": 102720
 }
}
