{
 "currentVersion": 11.2,
 "serviceDescription": ".02% Water Surface Elevation Raster of Ransom County North Dakota used for ID on the R8 Viewer",
 "name": "WSE_02/W_NDRansomCo_0_2",
 "description": ".02% Water Surface Elevation Raster of Ransom County North Dakota used for ID on the R8 Viewer",
 "extent": {
  "xmin": 2587433.057166263,
  "ymin": 233925.30705826118,
  "xmax": 2782814.539566263,
  "ymax": 368195.3278582612,
  "spatialReference": {
   "wkid": 102721,
   "latestWkid": 102721
  }
 },
 "initialExtent": {
  "xmin": 2587433.057166263,
  "ymin": 233925.30705826118,
  "xmax": 2782814.539566263,
  "ymax": 368195.3278582612,
  "spatialReference": {
   "wkid": 102721,
   "latestWkid": 102721
  }
 },
 "fullExtent": {
  "xmin": 2587433.057166263,
  "ymin": 233925.30705826118,
  "xmax": 2782814.539566263,
  "ymax": 368195.3278582612,
  "spatialReference": {
   "wkid": 102721,
   "latestWkid": 102721
  }
 },
 "sortableFields": "",
 "bandCount": 1,
 "pixelType": "F32",
 "minValues": [
  1001.349609375
 ],
 "maxValues": [
  1418.921875
 ],
 "meanValues": [
  1172.5580337565968
 ],
 "stdvValues": [
  120.33862829521198
 ],
 "hasMultidimensions": false,
 "pixelSizeX": 3.2808000000000015,
 "pixelSizeY": 3.2808,
 "meanPixelSize": 0.9999898399796804,
 "datasetFormat": "FGDBR",
 "uncompressedSize": 9749064312,
 "blockWidth": 128,
 "blockHeight": 128,
 "compressionType": "NONE",
 "bandNames": [
  "Band_1"
 ],
 "allowCopy": true,
 "allowAnalysis": true,
 "itemAccess": false,
 "inspectionCapabilities": "",
 "minPixelSize": 0,
 "maxPixelSize": 0,
 "copyrightText": "",
 "serviceDataType": "esriImageServiceDataTypeGeneric",
 "serviceSourceType": "esriImageServiceSourceTypeDataset",
 "objectIdField": "",
 "fields": [],
 "capabilities": "Image,Metadata,Mensuration",
 "defaultMosaicMethod": "Center",
 "allowedMosaicMethods": "",
 "sortField": "",
 "sortValue": null,
 "sortAscending": true,
 "mosaicOperator": "First",
 "defaultCompressionQuality": 75,
 "defaultResamplingMethod": "Bilinear",
 "maxImageHeight": 4100,
 "maxImageWidth": 15000,
 "allowRasterFunction": true,
 "rasterFunctionInfos": [
  {
   "name": "None",
   "description": "",
   "help": ""
  }
 ],
 "rasterTypeInfos": [
  {
   "name": "Raster Dataset",
   "description": "Supports all ArcGIS Raster Datasets",
   "help": ""
  }
 ],
 "mensurationCapabilities": "Basic",
 "hasHistograms": true,
 "hasColormap": false,
 "hasRasterAttributeTable": false,
 "minScale": 0,
 "maxScale": 0,
 "exportTilesAllowed": false,
 "supportsStatistics": false,
 "supportsAdvancedQueries": false,
 "editFieldsInfo": null,
 "ownershipBasedAccessControlForRasters": null,
 "allowComputeTiePoints": false,
 "useStandardizedQueries": true,
 "advancedQueryCapabilities": {
  "useStandardizedQueries": true,
  "supportsStatistics": false,
  "supportsOrderBy": false,
  "supportsDistinct": false,
  "supportsPagination": false
 },
 "spatialReference": {
  "wkid": 102721,
  "latestWkid": 102721
 }
}
