{
 "currentVersion": 11.2,
 "serviceDescription": ".02% Water Surface Elevation Raster of Stutsman County North Dakota used for ID on the R8 Viewer",
 "name": "WSE_02/W_NDStutsmanCo_0_2",
 "description": ".02% Water Surface Elevation Raster of Stutsman County North Dakota used for ID on the R8 Viewer",
 "extent": {
  "xmin": 2220675.013136906,
  "ymin": 353186.22275061114,
  "xmax": 2486688.838736906,
  "ymax": 612353.0187506111,
  "spatialReference": {
   "wkid": 102721,
   "latestWkid": 102721
  }
 },
 "initialExtent": {
  "xmin": 2220675.013136906,
  "ymin": 353186.22275061114,
  "xmax": 2486688.838736906,
  "ymax": 612353.0187506111,
  "spatialReference": {
   "wkid": 102721,
   "latestWkid": 102721
  }
 },
 "fullExtent": {
  "xmin": 2220675.013136906,
  "ymin": 353186.22275061114,
  "xmax": 2486688.838736906,
  "ymax": 612353.0187506111,
  "spatialReference": {
   "wkid": 102721,
   "latestWkid": 102721
  }
 },
 "sortableFields": "",
 "bandCount": 1,
 "pixelType": "F32",
 "minValues": [
  1352.49169921875
 ],
 "maxValues": [
  2054.034423828125
 ],
 "meanValues": [
  1630.5294445386573
 ],
 "stdvValues": [
  165.29008994040234
 ],
 "hasMultidimensions": false,
 "pixelSizeX": 3.280800000000001,
 "pixelSizeY": 3.2807999999999997,
 "meanPixelSize": 0.9999898399796802,
 "datasetFormat": "FGDBR",
 "uncompressedSize": 25620290360,
 "blockWidth": 128,
 "blockHeight": 128,
 "compressionType": "NONE",
 "bandNames": [
  "Band_1"
 ],
 "allowCopy": true,
 "allowAnalysis": true,
 "itemAccess": false,
 "inspectionCapabilities": "",
 "minPixelSize": 0,
 "maxPixelSize": 0,
 "copyrightText": "",
 "serviceDataType": "esriImageServiceDataTypeGeneric",
 "serviceSourceType": "esriImageServiceSourceTypeDataset",
 "objectIdField": "",
 "fields": [],
 "capabilities": "Image,Metadata,Mensuration",
 "defaultMosaicMethod": "Center",
 "allowedMosaicMethods": "",
 "sortField": "",
 "sortValue": null,
 "sortAscending": true,
 "mosaicOperator": "First",
 "defaultCompressionQuality": 75,
 "defaultResamplingMethod": "Bilinear",
 "maxImageHeight": 4100,
 "maxImageWidth": 15000,
 "allowRasterFunction": true,
 "rasterFunctionInfos": [
  {
   "name": "None",
   "description": "",
   "help": ""
  }
 ],
 "rasterTypeInfos": [
  {
   "name": "Raster Dataset",
   "description": "Supports all ArcGIS Raster Datasets",
   "help": ""
  }
 ],
 "mensurationCapabilities": "Basic",
 "hasHistograms": true,
 "hasColormap": false,
 "hasRasterAttributeTable": false,
 "minScale": 0,
 "maxScale": 0,
 "exportTilesAllowed": false,
 "supportsStatistics": false,
 "supportsAdvancedQueries": false,
 "editFieldsInfo": null,
 "ownershipBasedAccessControlForRasters": null,
 "allowComputeTiePoints": false,
 "useStandardizedQueries": true,
 "advancedQueryCapabilities": {
  "useStandardizedQueries": true,
  "supportsStatistics": false,
  "supportsOrderBy": false,
  "supportsDistinct": false,
  "supportsPagination": false
 },
 "spatialReference": {
  "wkid": 102721,
  "latestWkid": 102721
 }
}
