{
 "currentVersion": 11.2,
 "serviceDescription": "W_SDBrookingsCo_02, Water Surface Elevation, 02%, SD, MIT, R8, BrookingsCo",
 "name": "WSE_02/W_SDBrookingsCo_02",
 "description": "W_SDBrookingsCo_02, Water Surface Elevation, 02%, SD, MIT, R8, BrookingsCo",
 "extent": {
  "xmin": 2716696.246242117,
  "ymin": 145351.31028573823,
  "xmax": 2898831.7068916173,
  "ymax": 279317.5764246382,
  "spatialReference": {
   "wkid": 3454,
   "latestWkid": 4457
  }
 },
 "initialExtent": {
  "xmin": 2716696.246242117,
  "ymin": 145351.31028573823,
  "xmax": 2898831.7068916173,
  "ymax": 279317.5764246382,
  "spatialReference": {
   "wkid": 3454,
   "latestWkid": 4457
  }
 },
 "fullExtent": {
  "xmin": 2716696.246242117,
  "ymin": 145351.31028573823,
  "xmax": 2898831.7068916173,
  "ymax": 279317.5764246382,
  "spatialReference": {
   "wkid": 3454,
   "latestWkid": 4457
  }
 },
 "sortableFields": "",
 "bandCount": 1,
 "pixelType": "F32",
 "minValues": [
  1569.6999511719
 ],
 "maxValues": [
  1988.8000488281
 ],
 "meanValues": [
  1673.46993242
 ],
 "stdvValues": [
  73.515920973104
 ],
 "hasMultidimensions": false,
 "pixelSizeX": 3.2808333000000025,
 "pixelSizeY": 3.2808332999999994,
 "meanPixelSize": 0.9999999898399802,
 "datasetFormat": "TIFF",
 "uncompressedSize": 9067375980,
 "blockWidth": 128,
 "blockHeight": 128,
 "compressionType": "LZW",
 "bandNames": [
  "Band_1"
 ],
 "allowCopy": true,
 "allowAnalysis": true,
 "itemAccess": false,
 "inspectionCapabilities": "",
 "noDataValue": -3.4028234663852886E38,
 "noDataValues": [
  -3.4028234663852886E38
 ],
 "minPixelSize": 0,
 "maxPixelSize": 0,
 "copyrightText": "",
 "serviceDataType": "esriImageServiceDataTypeGeneric",
 "serviceSourceType": "esriImageServiceSourceTypeDataset",
 "objectIdField": "",
 "fields": [],
 "capabilities": "Image,Metadata,Mensuration",
 "defaultMosaicMethod": "Center",
 "allowedMosaicMethods": "",
 "sortField": "",
 "sortValue": null,
 "sortAscending": true,
 "mosaicOperator": "First",
 "defaultCompressionQuality": 75,
 "defaultResamplingMethod": "Bilinear",
 "maxImageHeight": 4100,
 "maxImageWidth": 15000,
 "allowRasterFunction": true,
 "rasterFunctionInfos": [
  {
   "name": "None",
   "description": "",
   "help": ""
  }
 ],
 "rasterTypeInfos": [
  {
   "name": "Raster Dataset",
   "description": "Supports all ArcGIS Raster Datasets",
   "help": ""
  }
 ],
 "mensurationCapabilities": "Basic",
 "hasHistograms": true,
 "hasColormap": false,
 "hasRasterAttributeTable": false,
 "minScale": 0,
 "maxScale": 0,
 "exportTilesAllowed": false,
 "supportsStatistics": false,
 "supportsAdvancedQueries": false,
 "editFieldsInfo": null,
 "ownershipBasedAccessControlForRasters": null,
 "allowComputeTiePoints": false,
 "useStandardizedQueries": true,
 "advancedQueryCapabilities": {
  "useStandardizedQueries": true,
  "supportsStatistics": false,
  "supportsOrderBy": false,
  "supportsDistinct": false,
  "supportsPagination": false
 },
 "spatialReference": {
  "wkid": 3454,
  "latestWkid": 4457
 }
}
