{
 "currentVersion": 11.2,
 "serviceDescription": "W_SDLincolnCo_02, Water Surface Elevation, 02%, SD, MIT, R8, LincolnCo",
 "name": "WSE_02/W_SDLincolnCo_02",
 "description": "W_SDLincolnCo_02, Water Surface Elevation, 02%, SD, MIT, R8, LincolnCo",
 "extent": {
  "xmin": 2872582.115742968,
  "ymin": 292185.06753050245,
  "xmax": 3008530.0051950677,
  "ymax": 447650.6342843024,
  "spatialReference": {
   "wkid": 102735,
   "latestWkid": 3455
  }
 },
 "initialExtent": {
  "xmin": 2872582.115742968,
  "ymin": 292185.06753050245,
  "xmax": 3008530.0051950677,
  "ymax": 447650.6342843024,
  "spatialReference": {
   "wkid": 102735,
   "latestWkid": 3455
  }
 },
 "fullExtent": {
  "xmin": 2872582.115742968,
  "ymin": 292185.06753050245,
  "xmax": 3008530.0051950677,
  "ymax": 447650.6342843024,
  "spatialReference": {
   "wkid": 102735,
   "latestWkid": 3455
  }
 },
 "sortableFields": "",
 "bandCount": 1,
 "pixelType": "F32",
 "minValues": [
  1199.3000488281
 ],
 "maxValues": [
  1560.9000244141
 ],
 "meanValues": [
  1351.8969137126
 ],
 "stdvValues": [
  80.029418521058
 ],
 "hasMultidimensions": false,
 "pixelSizeX": 3.280833299999995,
 "pixelSizeY": 3.2808332999999994,
 "meanPixelSize": 0.999999989839979,
 "datasetFormat": "TIFF",
 "uncompressedSize": 7854134728,
 "blockWidth": 128,
 "blockHeight": 128,
 "compressionType": "LZW",
 "bandNames": [
  "Band_1"
 ],
 "allowCopy": true,
 "allowAnalysis": true,
 "itemAccess": false,
 "inspectionCapabilities": "",
 "noDataValue": -3.4028234663852886E38,
 "noDataValues": [
  -3.4028234663852886E38
 ],
 "minPixelSize": 0,
 "maxPixelSize": 0,
 "copyrightText": "",
 "serviceDataType": "esriImageServiceDataTypeGeneric",
 "serviceSourceType": "esriImageServiceSourceTypeDataset",
 "objectIdField": "",
 "fields": [],
 "capabilities": "Image,Metadata,Mensuration",
 "defaultMosaicMethod": "Center",
 "allowedMosaicMethods": "",
 "sortField": "",
 "sortValue": null,
 "sortAscending": true,
 "mosaicOperator": "First",
 "defaultCompressionQuality": 75,
 "defaultResamplingMethod": "Bilinear",
 "maxImageHeight": 4100,
 "maxImageWidth": 15000,
 "allowRasterFunction": true,
 "rasterFunctionInfos": [
  {
   "name": "None",
   "description": "",
   "help": ""
  }
 ],
 "rasterTypeInfos": [
  {
   "name": "Raster Dataset",
   "description": "Supports all ArcGIS Raster Datasets",
   "help": ""
  }
 ],
 "mensurationCapabilities": "Basic",
 "hasHistograms": true,
 "hasColormap": false,
 "hasRasterAttributeTable": false,
 "minScale": 0,
 "maxScale": 0,
 "exportTilesAllowed": false,
 "supportsStatistics": false,
 "supportsAdvancedQueries": false,
 "editFieldsInfo": null,
 "ownershipBasedAccessControlForRasters": null,
 "allowComputeTiePoints": false,
 "useStandardizedQueries": true,
 "advancedQueryCapabilities": {
  "useStandardizedQueries": true,
  "supportsStatistics": false,
  "supportsOrderBy": false,
  "supportsDistinct": false,
  "supportsPagination": false
 },
 "spatialReference": {
  "wkid": 102735,
  "latestWkid": 3455
 }
}
