{
 "currentVersion": 11.2,
 "serviceDescription": "Water Surface Elevation, R8, MIT, .1%, North Dakota,d1",
 "name": "WSE_ND/WSE_ND_01_d1",
 "description": "Water Surface Elevation, R8, MIT, .1%, North Dakota,d1",
 "extent": {
  "xmin": 1727435.4420062155,
  "ymin": -386191.43501344696,
  "xmax": 2886437.096406215,
  "ymax": 740382.7921865527,
  "spatialReference": {
   "wkid": 102720,
   "latestWkid": 102720
  }
 },
 "initialExtent": {
  "xmin": 1727435.4420062155,
  "ymin": -386191.43501344696,
  "xmax": 2886437.096406215,
  "ymax": 740382.7921865527,
  "spatialReference": {
   "wkid": 102720,
   "latestWkid": 102720
  }
 },
 "fullExtent": {
  "xmin": 1727435.4420062155,
  "ymin": -386191.43501344696,
  "xmax": 2886437.096406215,
  "ymax": 740382.7921865527,
  "spatialReference": {
   "wkid": 102720,
   "latestWkid": 102720
  }
 },
 "sortableFields": "",
 "bandCount": 1,
 "pixelType": "F32",
 "minValues": [
  811.575439453125
 ],
 "maxValues": [
  2439.04150390625
 ],
 "meanValues": [
  1485.9944999714899
 ],
 "stdvValues": [
  306.83033545868403
 ],
 "hasMultidimensions": false,
 "pixelSizeX": 3.2807999999999984,
 "pixelSizeY": 3.280799999999999,
 "meanPixelSize": 0.9999898399796796,
 "datasetFormat": "FGDBR",
 "uncompressedSize": 485226315648,
 "blockWidth": 128,
 "blockHeight": 128,
 "compressionType": "LZ77",
 "bandNames": [
  "Band_1"
 ],
 "allowCopy": true,
 "allowAnalysis": true,
 "itemAccess": false,
 "inspectionCapabilities": "",
 "minPixelSize": 0,
 "maxPixelSize": 0,
 "copyrightText": "",
 "serviceDataType": "esriImageServiceDataTypeGeneric",
 "serviceSourceType": "esriImageServiceSourceTypeDataset",
 "objectIdField": "",
 "fields": [],
 "capabilities": "Image,Metadata,Mensuration",
 "defaultMosaicMethod": "Center",
 "allowedMosaicMethods": "",
 "sortField": "",
 "sortValue": null,
 "sortAscending": true,
 "mosaicOperator": "First",
 "defaultCompressionQuality": 75,
 "defaultResamplingMethod": "Bilinear",
 "maxImageHeight": 4100,
 "maxImageWidth": 15000,
 "allowRasterFunction": true,
 "rasterFunctionInfos": [
  {
   "name": "None",
   "description": "",
   "help": ""
  }
 ],
 "rasterTypeInfos": [
  {
   "name": "Raster Dataset",
   "description": "Supports all ArcGIS Raster Datasets",
   "help": ""
  }
 ],
 "mensurationCapabilities": "Basic",
 "hasHistograms": true,
 "hasColormap": false,
 "hasRasterAttributeTable": false,
 "minScale": 0,
 "maxScale": 0,
 "exportTilesAllowed": false,
 "supportsStatistics": false,
 "supportsAdvancedQueries": false,
 "editFieldsInfo": null,
 "ownershipBasedAccessControlForRasters": null,
 "allowComputeTiePoints": false,
 "useStandardizedQueries": true,
 "advancedQueryCapabilities": {
  "useStandardizedQueries": true,
  "supportsStatistics": false,
  "supportsOrderBy": false,
  "supportsDistinct": false,
  "supportsPagination": false
 },
 "spatialReference": {
  "wkid": 102720,
  "latestWkid": 102720
 }
}
