{
 "currentVersion": 11.2,
 "serviceDescription": "Water Surface Elevation, R8, MIT, .1%, North Dakota,d3",
 "name": "WSE_ND/WSE_ND_01_d3",
 "description": "Water Surface Elevation, R8, MIT, .1%, North Dakota,d3",
 "extent": {
  "xmin": 1008252.4586561492,
  "ymin": 40852.4215233835,
  "xmax": 1966833.2919777164,
  "ymax": 1236081.273685677,
  "spatialReference": {
   "wkid": 102721,
   "latestWkid": 102721
  }
 },
 "initialExtent": {
  "xmin": 1008252.4586561492,
  "ymin": 40852.4215233835,
  "xmax": 1966833.2919777164,
  "ymax": 1236081.273685677,
  "spatialReference": {
   "wkid": 102721,
   "latestWkid": 102721
  }
 },
 "fullExtent": {
  "xmin": 1008252.4586561492,
  "ymin": 40852.4215233835,
  "xmax": 1966833.2919777164,
  "ymax": 1236081.273685677,
  "spatialReference": {
   "wkid": 102721,
   "latestWkid": 102721
  }
 },
 "sortableFields": "",
 "bandCount": 1,
 "pixelType": "F32",
 "minValues": [
  -3.4028226550889045E38
 ],
 "maxValues": [
  3202.349853515625
 ],
 "meanValues": [
  -1.6175142909427215E29
 ],
 "stdvValues": [
  7.41897181043689E33
 ],
 "hasMultidimensions": false,
 "pixelSizeX": 3.2827548614632187,
 "pixelSizeY": 3.281990818122713,
 "meanPixelSize": 1.0004692425073811,
 "datasetFormat": "FGDBR",
 "uncompressedSize": 425367187560,
 "blockWidth": 128,
 "blockHeight": 128,
 "compressionType": "LZ77",
 "bandNames": [
  "Band_1"
 ],
 "allowCopy": true,
 "allowAnalysis": true,
 "itemAccess": false,
 "inspectionCapabilities": "",
 "minPixelSize": 0,
 "maxPixelSize": 0,
 "copyrightText": "",
 "serviceDataType": "esriImageServiceDataTypeGeneric",
 "serviceSourceType": "esriImageServiceSourceTypeDataset",
 "objectIdField": "",
 "fields": [],
 "capabilities": "Image,Metadata,Mensuration",
 "defaultMosaicMethod": "Center",
 "allowedMosaicMethods": "",
 "sortField": "",
 "sortValue": null,
 "sortAscending": true,
 "mosaicOperator": "First",
 "defaultCompressionQuality": 75,
 "defaultResamplingMethod": "Bilinear",
 "maxImageHeight": 4100,
 "maxImageWidth": 15000,
 "allowRasterFunction": true,
 "rasterFunctionInfos": [
  {
   "name": "None",
   "description": "",
   "help": ""
  }
 ],
 "rasterTypeInfos": [
  {
   "name": "Raster Dataset",
   "description": "Supports all ArcGIS Raster Datasets",
   "help": ""
  }
 ],
 "mensurationCapabilities": "Basic",
 "hasHistograms": true,
 "hasColormap": false,
 "hasRasterAttributeTable": false,
 "minScale": 0,
 "maxScale": 0,
 "exportTilesAllowed": false,
 "supportsStatistics": false,
 "supportsAdvancedQueries": false,
 "editFieldsInfo": null,
 "ownershipBasedAccessControlForRasters": null,
 "allowComputeTiePoints": false,
 "useStandardizedQueries": true,
 "advancedQueryCapabilities": {
  "useStandardizedQueries": true,
  "supportsStatistics": false,
  "supportsOrderBy": false,
  "supportsDistinct": false,
  "supportsPagination": false
 },
 "spatialReference": {
  "wkid": 102721,
  "latestWkid": 102721
 }
}
