View In:
ArcGIS JavaScript
ArcGIS Online Map Viewer
ArcGIS Earth
Service Description: Region2/USVI_02PCT_Water_Surface_Elevation
Name: Region2/USVI_02PCT_Water_Surface_Elevation
Description:
Single Fused Map Cache: false
Extent:
XMin: 1143480.9560413845
YMin: 603752.7465888548
XMax: 1300060.9560413845
YMax: 853462.7465888548
Spatial Reference: 102761
(102761)
LatestVCSWkid(0)
Initial Extent:
XMin: 1143480.9560413845
YMin: 603752.7465888548
XMax: 1300060.9560413845
YMax: 853462.7465888548
Spatial Reference: 102761
(102761)
LatestVCSWkid(0)
Full Extent:
XMin: 1143480.9560413845
YMin: 603752.7465888548
XMax: 1300060.9560413845
YMax: 853462.7465888548
Spatial Reference: 102761
(102761)
LatestVCSWkid(0)
Pixel Size X: 10.0
Pixel Size Y: 10.0
Band Count: 1
Pixel Type: F32
RasterFunction Infos: {"rasterFunctionInfos": [{
"name": "None",
"description": "",
"help": ""
}]}
Mensuration Capabilities: Basic
Inspection Capabilities:
Has Histograms: true
Has Colormap: false
Has Multi Dimensions : false
Rendering Rule:
Min Scale: 0
Max Scale: 0
Copyright Text:
Service Data Type: esriImageServiceDataTypeGeneric
Min Values: 0
Max Values: 1046.2486572265625
Mean Values: 87.13865248308169
Standard Deviation Values: 74.17006805987363
Object ID Field:
Fields:
None
Default Mosaic Method: Center
Allowed Mosaic Methods:
SortField:
SortValue: null
Mosaic Operator: First
Default Compression Quality: 75
Default Resampling Method: Bilinear
Max Record Count: null
Max Image Height: 4100
Max Image Width: 15000
Max Download Image Count: null
Max Mosaic Image Count: null
Allow Raster Function: true
Allow Copy: true
Allow Analysis: true
Allow Compute TiePoints: false
Supports Statistics: false
Supports Advanced Queries: false
Use StandardizedQueries: true
Raster Type Infos:
Name: Raster Dataset
Description: Supports all ArcGIS Raster Datasets
Help:
Has Raster Attribute Table: false
Edit Fields Info: null
Ownership Based AccessControl For Rasters: null
Child Resources:
Info
Histograms
Statistics
Key Properties
Legend
Raster Function Infos
Supported Operations:
Export Image
Identify
Measure
Compute Histograms
Compute Statistics Histograms
Get Samples
Compute Class Statistics
Query Boundary
Compute Pixel Location
Compute Angles
Validate
Project