View In:
ArcGIS JavaScript
ArcGIS Online Map Viewer
ArcGIS Earth
Service Description: 1% Water Surface Elevation Raster of Steele County North Dakota used for ID on the R8 Viewer
Name: Region8_WSE/W_NDSteeleCo_01
Description: 1% Water Surface Elevation Raster of Steele County North Dakota used for ID on the R8 Viewer
Single Fused Map Cache: false
Extent:
XMin: 2587698.8390298923
YMin: 97568.21773568232
XMax: 2726109.2294298923
YMax: 260331.98653568234
Spatial Reference: 102720
(102720)
LatestVCSWkid(0)
Initial Extent:
XMin: 2587698.8390298923
YMin: 97568.21773568232
XMax: 2726109.2294298923
YMax: 260331.98653568234
Spatial Reference: 102720
(102720)
LatestVCSWkid(0)
Full Extent:
XMin: 2587698.8390298923
YMin: 97568.21773568232
XMax: 2726109.2294298923
YMax: 260331.98653568234
Spatial Reference: 102720
(102720)
LatestVCSWkid(0)
Pixel Size X: 3.280799999999998
Pixel Size Y: 3.2808000000000006
Band Count: 1
Pixel Type: F32
RasterFunction Infos: {"rasterFunctionInfos": [{
"name": "None",
"description": "",
"help": ""
}]}
Mensuration Capabilities: Basic
Inspection Capabilities:
Has Histograms: true
Has Colormap: false
Has Multi Dimensions : false
Rendering Rule:
Min Scale: 0
Max Scale: 0
Copyright Text:
Service Data Type: esriImageServiceDataTypeGeneric
Min Values: 995.3478393554688
Max Values: 1527.1265869140625
Mean Values: 1209.040107332804
Standard Deviation Values: 143.3759818414681
Object ID Field:
Fields:
None
Default Mosaic Method: Center
Allowed Mosaic Methods:
SortField:
SortValue: null
Mosaic Operator: First
Default Compression Quality: 75
Default Resampling Method: Bilinear
Max Record Count: null
Max Image Height: 4100
Max Image Width: 15000
Max Download Image Count: null
Max Mosaic Image Count: null
Allow Raster Function: true
Allow Copy: true
Allow Analysis: true
Allow Compute TiePoints: false
Supports Statistics: false
Supports Advanced Queries: false
Use StandardizedQueries: true
Raster Type Infos:
Name: Raster Dataset
Description: Supports all ArcGIS Raster Datasets
Help:
Has Raster Attribute Table: false
Edit Fields Info: null
Ownership Based AccessControl For Rasters: null
Child Resources:
Info
Histograms
Statistics
Key Properties
Legend
Raster Function Infos
Supported Operations:
Export Image
Identify
Measure
Compute Histograms
Compute Statistics Histograms
Get Samples
Compute Class Statistics
Query Boundary
Compute Pixel Location
Compute Angles
Validate
Project