View In:
ArcGIS JavaScript
ArcGIS Online Map Viewer
ArcGIS Earth
Service Description: 1% Water Surface Elevation Raster of Stutsman County North Dakota used for ID on the R8 Viewer
Name: Region8_WSE/W_NDStutsmanCo_01
Description: 1% Water Surface Elevation Raster of Stutsman County North Dakota used for ID on the R8 Viewer
Single Fused Map Cache: false
Extent:
XMin: 2220675.013136906
YMin: 353186.22275061114
XMax: 2486688.838736906
YMax: 612353.0187506111
Spatial Reference: 102721
(102721)
LatestVCSWkid(0)
Initial Extent:
XMin: 2220675.013136906
YMin: 353186.22275061114
XMax: 2486688.838736906
YMax: 612353.0187506111
Spatial Reference: 102721
(102721)
LatestVCSWkid(0)
Full Extent:
XMin: 2220675.013136906
YMin: 353186.22275061114
XMax: 2486688.838736906
YMax: 612353.0187506111
Spatial Reference: 102721
(102721)
LatestVCSWkid(0)
Pixel Size X: 3.280800000000001
Pixel Size Y: 3.2807999999999997
Band Count: 1
Pixel Type: F32
RasterFunction Infos: {"rasterFunctionInfos": [{
"name": "None",
"description": "",
"help": ""
}]}
Mensuration Capabilities: Basic
Inspection Capabilities:
Has Histograms: true
Has Colormap: false
Has Multi Dimensions : false
Rendering Rule:
Min Scale: 0
Max Scale: 0
Copyright Text:
Service Data Type: esriImageServiceDataTypeGeneric
Min Values: 1349.02685546875
Max Values: 2048.4140625
Mean Values: 1647.8935566466957
Standard Deviation Values: 172.81646010854317
Object ID Field:
Fields:
None
Default Mosaic Method: Center
Allowed Mosaic Methods:
SortField:
SortValue: null
Mosaic Operator: First
Default Compression Quality: 75
Default Resampling Method: Bilinear
Max Record Count: null
Max Image Height: 4100
Max Image Width: 15000
Max Download Image Count: null
Max Mosaic Image Count: null
Allow Raster Function: true
Allow Copy: true
Allow Analysis: true
Allow Compute TiePoints: false
Supports Statistics: false
Supports Advanced Queries: false
Use StandardizedQueries: true
Raster Type Infos:
Name: Raster Dataset
Description: Supports all ArcGIS Raster Datasets
Help:
Has Raster Attribute Table: false
Edit Fields Info: null
Ownership Based AccessControl For Rasters: null
Child Resources:
Info
Histograms
Statistics
Key Properties
Legend
Raster Function Infos
Supported Operations:
Export Image
Identify
Measure
Compute Histograms
Compute Statistics Histograms
Get Samples
Compute Class Statistics
Query Boundary
Compute Pixel Location
Compute Angles
Validate
Project