View In:
ArcGIS JavaScript
ArcGIS Online Map Viewer
ArcGIS Earth
Service Description: 1% Water Surface Elevation Raster of Towner County North Dakota used for ID on the R8 Viewer
Name: Region8_WSE/W_NDTownerCo_01
Description: 1% Water Surface Elevation Raster of Towner County North Dakota used for ID on the R8 Viewer
Single Fused Map Cache: false
Extent:
XMin: 2201887.8125986024
YMin: 501174.5163259178
XMax: 2340659.0909986026
YMax: 733599.5115259178
Spatial Reference: 102720
(102720)
LatestVCSWkid(0)
Initial Extent:
XMin: 2201887.8125986024
YMin: 501174.5163259178
XMax: 2340659.0909986026
YMax: 733599.5115259178
Spatial Reference: 102720
(102720)
LatestVCSWkid(0)
Full Extent:
XMin: 2201887.8125986024
YMin: 501174.5163259178
XMax: 2340659.0909986026
YMax: 733599.5115259178
Spatial Reference: 102720
(102720)
LatestVCSWkid(0)
Pixel Size X: 3.280800000000004
Pixel Size Y: 3.2808
Band Count: 1
Pixel Type: F32
RasterFunction Infos: {"rasterFunctionInfos": [{
"name": "None",
"description": "",
"help": ""
}]}
Mensuration Capabilities: Basic
Inspection Capabilities:
Has Histograms: true
Has Colormap: false
Has Multi Dimensions : false
Rendering Rule:
Min Scale: 0
Max Scale: 0
Copyright Text:
Service Data Type: esriImageServiceDataTypeGeneric
Min Values: 1455.343017578125
Max Values: 1761.00244140625
Mean Values: 1514.0187670604666
Standard Deviation Values: 56.22162906940854
Object ID Field:
Fields:
None
Default Mosaic Method: Center
Allowed Mosaic Methods:
SortField:
SortValue: null
Mosaic Operator: First
Default Compression Quality: 75
Default Resampling Method: Bilinear
Max Record Count: null
Max Image Height: 4100
Max Image Width: 15000
Max Download Image Count: null
Max Mosaic Image Count: null
Allow Raster Function: true
Allow Copy: true
Allow Analysis: true
Allow Compute TiePoints: false
Supports Statistics: false
Supports Advanced Queries: false
Use StandardizedQueries: true
Raster Type Infos:
Name: Raster Dataset
Description: Supports all ArcGIS Raster Datasets
Help:
Has Raster Attribute Table: false
Edit Fields Info: null
Ownership Based AccessControl For Rasters: null
Child Resources:
Info
Histograms
Statistics
Key Properties
Legend
Raster Function Infos
Supported Operations:
Export Image
Identify
Measure
Compute Histograms
Compute Statistics Histograms
Get Samples
Compute Class Statistics
Query Boundary
Compute Pixel Location
Compute Angles
Validate
Project