View In:
ArcGIS JavaScript
ArcGIS Online Map Viewer
ArcGIS Earth
Service Description: W_SDLincolnCo01, Water Surface Elevation, 01%,SD, MIT, R8, LincolnCo
Name: WSE_01/W_SDLincolnCo_01
Description: W_SDLincolnCo01, Water Surface Elevation, 01%,SD, MIT, R8, LincolnCo
Single Fused Map Cache: false
Extent:
XMin: 2872582.097588905
YMin: 292184.4022292148
XMax: 3008529.987041005
YMax: 447649.9689830148
Spatial Reference: 102735
(3455)
LatestVCSWkid(0)
Initial Extent:
XMin: 2872582.097588905
YMin: 292184.4022292148
XMax: 3008529.987041005
YMax: 447649.9689830148
Spatial Reference: 102735
(3455)
LatestVCSWkid(0)
Full Extent:
XMin: 2872582.097588905
YMin: 292184.4022292148
XMax: 3008529.987041005
YMax: 447649.9689830148
Spatial Reference: 102735
(3455)
LatestVCSWkid(0)
Pixel Size X: 3.280833299999995
Pixel Size Y: 3.2808333000000007
Band Count: 1
Pixel Type: F32
RasterFunction Infos: {"rasterFunctionInfos": [{
"name": "None",
"description": "",
"help": ""
}]}
Mensuration Capabilities: Basic
Inspection Capabilities:
Has Histograms: true
Has Colormap: false
Has Multi Dimensions : false
Rendering Rule:
Min Scale: 0
Max Scale: 0
Copyright Text:
Service Data Type: esriImageServiceDataTypeGeneric
Min Values: 1195.0999755859
Max Values: 1560.8000488281
Mean Values: 1349.8330112097
Standard Deviation Values: 81.043457349954
Object ID Field:
Fields:
None
Default Mosaic Method: Center
Allowed Mosaic Methods:
SortField:
SortValue: null
Mosaic Operator: First
Default Compression Quality: 75
Default Resampling Method: Bilinear
Max Record Count: null
Max Image Height: 4100
Max Image Width: 15000
Max Download Image Count: null
Max Mosaic Image Count: null
Allow Raster Function: true
Allow Copy: true
Allow Analysis: true
Allow Compute TiePoints: false
Supports Statistics: false
Supports Advanced Queries: false
Use StandardizedQueries: true
Raster Type Infos:
Name: Raster Dataset
Description: Supports all ArcGIS Raster Datasets
Help:
Has Raster Attribute Table: false
Edit Fields Info: null
Ownership Based AccessControl For Rasters: null
Child Resources:
Info
Histograms
Statistics
Key Properties
Legend
Raster Function Infos
Supported Operations:
Export Image
Identify
Measure
Compute Histograms
Compute Statistics Histograms
Get Samples
Compute Class Statistics
Query Boundary
Compute Pixel Location
Compute Angles
Validate
Project