View In:
ArcGIS JavaScript
ArcGIS Online Map Viewer
ArcGIS Earth
Service Description: W_SDMinnehahaCo01, Water Surface Elevation, 01%,SD, MIT, R8, MinnehahaCo
Name: WSE_01/W_SDMinnehahaCo_01
Description: W_SDMinnehahaCo01, Water Surface Elevation, 01%,SD, MIT, R8, MinnehahaCo
Single Fused Map Cache: false
Extent:
XMin: 2813543.1661143405
YMin: 441405.921977145
XMax: 2997578.2292445404
YMax: 576513.918104445
Spatial Reference: 102735
(3455)
LatestVCSWkid(0)
Initial Extent:
XMin: 2813543.1661143405
YMin: 441405.921977145
XMax: 2997578.2292445404
YMax: 576513.918104445
Spatial Reference: 102735
(3455)
LatestVCSWkid(0)
Full Extent:
XMin: 2813543.1661143405
YMin: 441405.921977145
XMax: 2997578.2292445404
YMax: 576513.918104445
Spatial Reference: 102735
(3455)
LatestVCSWkid(0)
Pixel Size X: 3.2808332999999985
Pixel Size Y: 3.280833299999999
Band Count: 1
Pixel Type: F32
RasterFunction Infos: {"rasterFunctionInfos": [{
"name": "None",
"description": "",
"help": ""
}]}
Mensuration Capabilities: Basic
Inspection Capabilities:
Has Histograms: true
Has Colormap: false
Has Multi Dimensions : false
Rendering Rule:
Min Scale: 0
Max Scale: 0
Copyright Text:
Service Data Type: esriImageServiceDataTypeGeneric
Min Values: 1256.1999511719
Max Values: 1807.8000488281
Mean Values: 1508.2663155623
Standard Deviation Values: 99.433235937789
Object ID Field:
Fields:
None
Default Mosaic Method: Center
Allowed Mosaic Methods:
SortField:
SortValue: null
Mosaic Operator: First
Default Compression Quality: 75
Default Resampling Method: Bilinear
Max Record Count: null
Max Image Height: 4100
Max Image Width: 15000
Max Download Image Count: null
Max Mosaic Image Count: null
Allow Raster Function: true
Allow Copy: true
Allow Analysis: true
Allow Compute TiePoints: false
Supports Statistics: false
Supports Advanced Queries: false
Use StandardizedQueries: true
Raster Type Infos:
Name: Raster Dataset
Description: Supports all ArcGIS Raster Datasets
Help:
Has Raster Attribute Table: false
Edit Fields Info: null
Ownership Based AccessControl For Rasters: null
Child Resources:
Info
Histograms
Statistics
Key Properties
Legend
Raster Function Infos
Supported Operations:
Export Image
Identify
Measure
Compute Histograms
Compute Statistics Histograms
Get Samples
Compute Class Statistics
Query Boundary
Compute Pixel Location
Compute Angles
Validate
Project