View In:
ArcGIS JavaScript
ArcGIS Online Map Viewer
ArcGIS Earth
Service Description: .02% Water Surface Elevation Raster of Ramsey County North Dakota used for ID on the R8 Viewer
Name: WSE_02/W_NDRamseyCo_0_2
Description: .02% Water Surface Elevation Raster of Ramsey County North Dakota used for ID on the R8 Viewer
Single Fused Map Cache: false
Extent:
XMin: 2283933.2566002966
YMin: 339153.2036543656
XMax: 2507372.1406002967
YMax: 571109.0444543656
Spatial Reference: 102720
(102720)
LatestVCSWkid(0)
Initial Extent:
XMin: 2283933.2566002966
YMin: 339153.2036543656
XMax: 2507372.1406002967
YMax: 571109.0444543656
Spatial Reference: 102720
(102720)
LatestVCSWkid(0)
Full Extent:
XMin: 2283933.2566002966
YMin: 339153.2036543656
XMax: 2507372.1406002967
YMax: 571109.0444543656
Spatial Reference: 102720
(102720)
LatestVCSWkid(0)
Pixel Size X: 3.280800000000001
Pixel Size Y: 3.2808
Band Count: 1
Pixel Type: F32
RasterFunction Infos: {"rasterFunctionInfos": [{
"name": "None",
"description": "",
"help": ""
}]}
Mensuration Capabilities: Basic
Inspection Capabilities:
Has Histograms: true
Has Colormap: false
Has Multi Dimensions : false
Rendering Rule:
Min Scale: 0
Max Scale: 0
Copyright Text:
Service Data Type: esriImageServiceDataTypeGeneric
Min Values: 1448.329833984375
Max Values: 1631.276611328125
Mean Values: 1478.0127221564242
Standard Deviation Values: 27.562143661116284
Object ID Field:
Fields:
None
Default Mosaic Method: Center
Allowed Mosaic Methods:
SortField:
SortValue: null
Mosaic Operator: First
Default Compression Quality: 75
Default Resampling Method: Bilinear
Max Record Count: null
Max Image Height: 4100
Max Image Width: 15000
Max Download Image Count: null
Max Mosaic Image Count: null
Allow Raster Function: true
Allow Copy: true
Allow Analysis: true
Allow Compute TiePoints: false
Supports Statistics: false
Supports Advanced Queries: false
Use StandardizedQueries: true
Raster Type Infos:
Name: Raster Dataset
Description: Supports all ArcGIS Raster Datasets
Help:
Has Raster Attribute Table: false
Edit Fields Info: null
Ownership Based AccessControl For Rasters: null
Child Resources:
Info
Histograms
Statistics
Key Properties
Legend
Raster Function Infos
Supported Operations:
Export Image
Identify
Measure
Compute Histograms
Compute Statistics Histograms
Get Samples
Compute Class Statistics
Query Boundary
Compute Pixel Location
Compute Angles
Validate
Project