View In:
ArcGIS JavaScript
ArcGIS Online Map Viewer
ArcGIS Earth
Service Description: .02% Water Surface Elevation Raster of Sheridan County North Dakota used for ID on the R8 Viewer
Name: WSE_02/W_NDSheridanCo_0_2
Description: .02% Water Surface Elevation Raster of Sheridan County North Dakota used for ID on the R8 Viewer
Single Fused Map Cache: false
Extent:
XMin: 1925030.1780920064
YMin: 118914.08274101134
XMax: 2084844.5076920064
YMax: 309909.13554101135
Spatial Reference: 102720
(102720)
LatestVCSWkid(0)
Initial Extent:
XMin: 1925030.1780920064
YMin: 118914.08274101134
XMax: 2084844.5076920064
YMax: 309909.13554101135
Spatial Reference: 102720
(102720)
LatestVCSWkid(0)
Full Extent:
XMin: 1925030.1780920064
YMin: 118914.08274101134
XMax: 2084844.5076920064
YMax: 309909.13554101135
Spatial Reference: 102720
(102720)
LatestVCSWkid(0)
Pixel Size X: 3.280800000000001
Pixel Size Y: 3.2808
Band Count: 1
Pixel Type: F32
RasterFunction Infos: {"rasterFunctionInfos": [{
"name": "None",
"description": "",
"help": ""
}]}
Mensuration Capabilities: Basic
Inspection Capabilities:
Has Histograms: true
Has Colormap: false
Has Multi Dimensions : false
Rendering Rule:
Min Scale: 0
Max Scale: 0
Copyright Text:
Service Data Type: esriImageServiceDataTypeGeneric
Min Values: 1581.3475341796875
Max Values: 2022.9024658203125
Mean Values: 1796.979992136363
Standard Deviation Values: 145.82415759790726
Object ID Field:
Fields:
None
Default Mosaic Method: Center
Allowed Mosaic Methods:
SortField:
SortValue: null
Mosaic Operator: First
Default Compression Quality: 75
Default Resampling Method: Bilinear
Max Record Count: null
Max Image Height: 4100
Max Image Width: 15000
Max Download Image Count: null
Max Mosaic Image Count: null
Allow Raster Function: true
Allow Copy: true
Allow Analysis: true
Allow Compute TiePoints: false
Supports Statistics: false
Supports Advanced Queries: false
Use StandardizedQueries: true
Raster Type Infos:
Name: Raster Dataset
Description: Supports all ArcGIS Raster Datasets
Help:
Has Raster Attribute Table: false
Edit Fields Info: null
Ownership Based AccessControl For Rasters: null
Child Resources:
Info
Histograms
Statistics
Key Properties
Legend
Raster Function Infos
Supported Operations:
Export Image
Identify
Measure
Compute Histograms
Compute Statistics Histograms
Get Samples
Compute Class Statistics
Query Boundary
Compute Pixel Location
Compute Angles
Validate
Project