View In:
ArcGIS JavaScript
ArcGIS Online Map Viewer
ArcGIS Earth
Service Description: .02% Water Surface Elevation Raster of Walsh County North Dakota used for ID on the R8 Viewer
Name: WSE_02/W_NDWalshCo_0_2
Description: .02% Water Surface Elevation Raster of Walsh County North Dakota used for ID on the R8 Viewer
Single Fused Map Cache: false
Extent:
XMin: 2496493.4350065
YMin: 443185.05239825905
XMax: 2793415.6774065
YMax: 580578.394798259
Spatial Reference: 102720
(102720)
LatestVCSWkid(0)
Initial Extent:
XMin: 2496493.4350065
YMin: 443185.05239825905
XMax: 2793415.6774065
YMax: 580578.394798259
Spatial Reference: 102720
(102720)
LatestVCSWkid(0)
Full Extent:
XMin: 2496493.4350065
YMin: 443185.05239825905
XMax: 2793415.6774065
YMax: 580578.394798259
Spatial Reference: 102720
(102720)
LatestVCSWkid(0)
Pixel Size X: 3.2807999999999984
Pixel Size Y: 3.2807999999999993
Band Count: 1
Pixel Type: F32
RasterFunction Infos: {"rasterFunctionInfos": [{
"name": "None",
"description": "",
"help": ""
}]}
Mensuration Capabilities: Basic
Inspection Capabilities:
Has Histograms: true
Has Colormap: false
Has Multi Dimensions : false
Rendering Rule:
Min Scale: 0
Max Scale: 0
Copyright Text:
Service Data Type: esriImageServiceDataTypeGeneric
Min Values: 790.1578369140625
Max Values: 1643.544189453125
Mean Values: 1064.2085692224648
Standard Deviation Values: 300.67154967091966
Object ID Field:
Fields:
None
Default Mosaic Method: Center
Allowed Mosaic Methods:
SortField:
SortValue: null
Mosaic Operator: First
Default Compression Quality: 75
Default Resampling Method: Bilinear
Max Record Count: null
Max Image Height: 4100
Max Image Width: 15000
Max Download Image Count: null
Max Mosaic Image Count: null
Allow Raster Function: true
Allow Copy: true
Allow Analysis: true
Allow Compute TiePoints: false
Supports Statistics: false
Supports Advanced Queries: false
Use StandardizedQueries: true
Raster Type Infos:
Name: Raster Dataset
Description: Supports all ArcGIS Raster Datasets
Help:
Has Raster Attribute Table: false
Edit Fields Info: null
Ownership Based AccessControl For Rasters: null
Child Resources:
Info
Histograms
Statistics
Key Properties
Legend
Raster Function Infos
Supported Operations:
Export Image
Identify
Measure
Compute Histograms
Compute Statistics Histograms
Get Samples
Compute Class Statistics
Query Boundary
Compute Pixel Location
Compute Angles
Validate
Project