View In:
ArcGIS JavaScript
ArcGIS Online Map Viewer
ArcGIS Earth
Service Description: W_SDLakeCo_02, Water Surface Elevation, 02%, SD, MIT, R8, LakeCo
Name: WSE_02/W_SDLakeCo_02
Description: W_SDLakeCo_02, Water Surface Elevation, 02%, SD, MIT, R8, LakeCo
Single Fused Map Cache: false
Extent:
XMin: 2745477.057825198
YMin: 565994.466195247
XMax: 2877248.4464863976
YMax: 697546.039025347
Spatial Reference: 102735
(3455)
LatestVCSWkid(0)
Initial Extent:
XMin: 2745477.057825198
YMin: 565994.466195247
XMax: 2877248.4464863976
YMax: 697546.039025347
Spatial Reference: 102735
(3455)
LatestVCSWkid(0)
Full Extent:
XMin: 2745477.057825198
YMin: 565994.466195247
XMax: 2877248.4464863976
YMax: 697546.039025347
Spatial Reference: 102735
(3455)
LatestVCSWkid(0)
Pixel Size X: 3.2808332999999927
Pixel Size Y: 3.280833299999999
Band Count: 1
Pixel Type: F32
RasterFunction Infos: {"rasterFunctionInfos": [{
"name": "None",
"description": "",
"help": ""
}]}
Mensuration Capabilities: Basic
Inspection Capabilities:
Has Histograms: true
Has Colormap: false
Has Multi Dimensions : false
Rendering Rule:
Min Scale: 0
Max Scale: 0
Copyright Text:
Service Data Type: esriImageServiceDataTypeGeneric
Min Values: 820.5
Max Values: 1872.3000488281
Mean Values: 1697.2515968512
Standard Deviation Values: 65.981232282275
Object ID Field:
Fields:
None
Default Mosaic Method: Center
Allowed Mosaic Methods:
SortField:
SortValue: null
Mosaic Operator: First
Default Compression Quality: 75
Default Resampling Method: Bilinear
Max Record Count: null
Max Image Height: 4100
Max Image Width: 15000
Max Download Image Count: null
Max Mosaic Image Count: null
Allow Raster Function: true
Allow Copy: true
Allow Analysis: true
Allow Compute TiePoints: false
Supports Statistics: false
Supports Advanced Queries: false
Use StandardizedQueries: true
Raster Type Infos:
Name: Raster Dataset
Description: Supports all ArcGIS Raster Datasets
Help:
Has Raster Attribute Table: false
Edit Fields Info: null
Ownership Based AccessControl For Rasters: null
Child Resources:
Info
Histograms
Statistics
Key Properties
Legend
Raster Function Infos
Supported Operations:
Export Image
Identify
Measure
Compute Histograms
Compute Statistics Histograms
Get Samples
Compute Class Statistics
Query Boundary
Compute Pixel Location
Compute Angles
Validate
Project