View In:
ArcGIS JavaScript
ArcGIS Online Map Viewer
ArcGIS Earth
Service Description: Water Surface Elevation, R8, MIT, .02%, NorthDakota, Disk3
Name: WSE_ND/WSE_ND_0_2_d3
Description: Water Surface Elevation, R8, MIT, .02%, NorthDakota, Disk3
Single Fused Map Cache: false
Extent:
XMin: 1061068.8604460259
YMin: 96033.12492540716
XMax: 1967950.2079139173
YMax: 1240361.1771374561
Spatial Reference: 102721
(102721)
LatestVCSWkid(0)
Initial Extent:
XMin: 1061068.8604460259
YMin: 96033.12492540716
XMax: 1967950.2079139173
YMax: 1240361.1771374561
Spatial Reference: 102721
(102721)
LatestVCSWkid(0)
Full Extent:
XMin: 1061068.8604460259
YMin: 96033.12492540716
XMax: 1967950.2079139173
YMax: 1240361.1771374561
Spatial Reference: 102721
(102721)
LatestVCSWkid(0)
Pixel Size X: 3.30061889230237
Pixel Size Y: 3.2921303592170457
Band Count: 1
Pixel Type: F32
RasterFunction Infos: {"rasterFunctionInfos": [{
"name": "None",
"description": "",
"help": ""
}]}
Mensuration Capabilities: Basic
Inspection Capabilities:
Has Histograms: true
Has Colormap: false
Has Multi Dimensions : false
Rendering Rule:
Min Scale: 0
Max Scale: 0
Copyright Text:
Service Data Type: esriImageServiceDataTypeGeneric
Min Values: -3.4028226550889045E38
Max Values: 3212.548583984375
Mean Values: -5.448021713790531E29
Standard Deviation Values: 1.3615671737338254E34
Object ID Field:
Fields:
None
Default Mosaic Method: Center
Allowed Mosaic Methods:
SortField:
SortValue: null
Mosaic Operator: First
Default Compression Quality: 75
Default Resampling Method: Bilinear
Max Record Count: null
Max Image Height: 4100
Max Image Width: 15000
Max Download Image Count: null
Max Mosaic Image Count: null
Allow Raster Function: true
Allow Copy: true
Allow Analysis: true
Allow Compute TiePoints: false
Supports Statistics: false
Supports Advanced Queries: false
Use StandardizedQueries: true
Raster Type Infos:
Name: Raster Dataset
Description: Supports all ArcGIS Raster Datasets
Help:
Has Raster Attribute Table: false
Edit Fields Info: null
Ownership Based AccessControl For Rasters: null
Child Resources:
Info
Histograms
Statistics
Key Properties
Legend
Raster Function Infos
Supported Operations:
Export Image
Identify
Measure
Compute Histograms
Compute Statistics Histograms
Get Samples
Compute Class Statistics
Query Boundary
Compute Pixel Location
Compute Angles
Validate
Project