View In:
ArcGIS JavaScript
ArcGIS Online Map Viewer
ArcGIS Earth
Service Description: Region2/PuertoRico_02PCT_Depth
Name: Region2/PuertoRico_02PCT_Depth
Description:
Single Fused Map Cache: false
Extent:
XMin: 110928.24249267578
YMin: 208489.89868164062
XMax: 328437.00551020185
YMax: 276164.77803139936
Spatial Reference: 32161
(32161)
LatestVCSWkid(0)
Initial Extent:
XMin: 110928.24249267578
YMin: 208489.89868164062
XMax: 328437.00551020185
YMax: 276164.77803139936
Spatial Reference: 32161
(32161)
LatestVCSWkid(0)
Full Extent:
XMin: 110928.24249267578
YMin: 208489.89868164062
XMax: 328437.00551020185
YMax: 276164.77803139936
Spatial Reference: 32161
(32161)
LatestVCSWkid(0)
Pixel Size X: 3.0480060960121924
Pixel Size Y: 3.0480060960121933
Band Count: 1
Pixel Type: F32
RasterFunction Infos: {"rasterFunctionInfos": [{
"name": "None",
"description": "",
"help": ""
}]}
Mensuration Capabilities: Basic
Inspection Capabilities:
Has Histograms: true
Has Colormap: false
Has Multi Dimensions : false
Rendering Rule:
Min Scale: 0
Max Scale: 0
Copyright Text:
Service Data Type: esriImageServiceDataTypeGeneric
Min Values: -1746.0651855469
Max Values: 111.51335144043
Mean Values: 2.9279672251308
Standard Deviation Values: 2.9730668305175
Object ID Field:
Fields:
None
Default Mosaic Method: Center
Allowed Mosaic Methods:
SortField:
SortValue: null
Mosaic Operator: First
Default Compression Quality: 75
Default Resampling Method: Bilinear
Max Record Count: null
Max Image Height: 4100
Max Image Width: 15000
Max Download Image Count: null
Max Mosaic Image Count: null
Allow Raster Function: true
Allow Copy: true
Allow Analysis: true
Allow Compute TiePoints: false
Supports Statistics: false
Supports Advanced Queries: false
Use StandardizedQueries: true
Raster Type Infos:
Name: Raster Dataset
Description: Supports all ArcGIS Raster Datasets
Help:
Has Raster Attribute Table: false
Edit Fields Info: null
Ownership Based AccessControl For Rasters: null
Child Resources:
Info
Histograms
Statistics
Key Properties
Legend
Raster Function Infos
Supported Operations:
Export Image
Identify
Measure
Compute Histograms
Compute Statistics Histograms
Get Samples
Compute Class Statistics
Query Boundary
Compute Pixel Location
Compute Angles
Validate
Project