View In:
ArcGIS JavaScript
ArcGIS Online Map Viewer
ArcGIS Earth
Service Description: Region2/PuertoRico_1PCT_Depth
Name: Region2/PuertoRico_1PCT_Depth
Description:
Single Fused Map Cache: false
Extent:
XMin: 110935.31427001953
YMin: 208182.1414794922
XMax: 328434.9332692574
YMax: 276274.59766440454
Spatial Reference: 32161
(32161)
LatestVCSWkid(0)
Initial Extent:
XMin: 110935.31427001953
YMin: 208182.1414794922
XMax: 328434.9332692574
YMax: 276274.59766440454
Spatial Reference: 32161
(32161)
LatestVCSWkid(0)
Full Extent:
XMin: 110935.31427001953
YMin: 208182.1414794922
XMax: 328434.9332692574
YMax: 276274.59766440454
Spatial Reference: 32161
(32161)
LatestVCSWkid(0)
Pixel Size X: 3.0480060960121906
Pixel Size Y: 3.0480060960121915
Band Count: 1
Pixel Type: F32
RasterFunction Infos: {"rasterFunctionInfos": [{
"name": "None",
"description": "",
"help": ""
}]}
Mensuration Capabilities: Basic
Inspection Capabilities:
Has Histograms: true
Has Colormap: false
Has Multi Dimensions : false
Rendering Rule:
Min Scale: 0
Max Scale: 0
Copyright Text:
Service Data Type: esriImageServiceDataTypeGeneric
Min Values: 0
Max Values: 108.55184936523
Mean Values: 2.5563978129862
Standard Deviation Values: 2.2221643914301
Object ID Field:
Fields:
None
Default Mosaic Method: Center
Allowed Mosaic Methods:
SortField:
SortValue: null
Mosaic Operator: First
Default Compression Quality: 75
Default Resampling Method: Bilinear
Max Record Count: null
Max Image Height: 4100
Max Image Width: 15000
Max Download Image Count: null
Max Mosaic Image Count: null
Allow Raster Function: true
Allow Copy: true
Allow Analysis: true
Allow Compute TiePoints: false
Supports Statistics: false
Supports Advanced Queries: false
Use StandardizedQueries: true
Raster Type Infos:
Name: Raster Dataset
Description: Supports all ArcGIS Raster Datasets
Help:
Has Raster Attribute Table: false
Edit Fields Info: null
Ownership Based AccessControl For Rasters: null
Child Resources:
Info
Histograms
Statistics
Key Properties
Legend
Raster Function Infos
Supported Operations:
Export Image
Identify
Measure
Compute Histograms
Compute Statistics Histograms
Get Samples
Compute Class Statistics
Query Boundary
Compute Pixel Location
Compute Angles
Validate
Project