View In:
ArcGIS JavaScript
ArcGIS Online Map Viewer
ArcGIS Earth
Service Description: The Federal Emergency Management Agency (FEMA) has developed the Advisory 1-Percent Water Surface Elevation (WSEL) Grid to approximate the elevation values of the Advisory 1-Percent Annual-Chance Flood event. These grid data are presented with a spatial resolution (cell size) of 10 feet by 10 feet (equal to approximately 3.048 meters by 3.048 meters), with cell values representing the water surface elevation values in feet above the Virgin Islands Vertical Datum of 2009 (VIVD09).
Name: Region2/USVI_1PCT_Water_Surface_Elevation
Description: The Federal Emergency Management Agency (FEMA) has developed the Advisory 1-Percent Water Surface Elevation (WSEL) Grid to approximate the elevation values of the Advisory 1-Percent Annual-Chance Flood event. These grid data are presented with a spatial resolution (cell size) of 10 feet by 10 feet (equal to approximately 3.048 meters by 3.048 meters), with cell values representing the water surface elevation values in feet above the Virgin Islands Vertical Datum of 2009 (VIVD09).
Single Fused Map Cache: false
Extent:
XMin: 1123377.4925933033
YMin: 600519.9294775575
XMax: 1306257.4925933033
YMax: 869809.9294775575
Spatial Reference: 102761
(102761)
LatestVCSWkid(0)
Initial Extent:
XMin: 1123377.4925933033
YMin: 600519.9294775575
XMax: 1306257.4925933033
YMax: 869809.9294775575
Spatial Reference: 102761
(102761)
LatestVCSWkid(0)
Full Extent:
XMin: 1123377.4925933033
YMin: 600519.9294775575
XMax: 1306257.4925933033
YMax: 869809.9294775575
Spatial Reference: 102761
(102761)
LatestVCSWkid(0)
Pixel Size X: 10.0
Pixel Size Y: 10.0
Band Count: 1
Pixel Type: F32
RasterFunction Infos: {"rasterFunctionInfos": [{
"name": "None",
"description": "",
"help": ""
}]}
Mensuration Capabilities: Basic
Inspection Capabilities:
Has Histograms: true
Has Colormap: false
Has Multi Dimensions : false
Rendering Rule:
Min Scale: 0
Max Scale: 0
Copyright Text: FEMA
Service Data Type: esriImageServiceDataTypeGeneric
Min Values: 4
Max Values: 1044.5881347656
Mean Values: 58.512195197136
Standard Deviation Values: 69.769803211931
Object ID Field:
Fields:
None
Default Mosaic Method: Center
Allowed Mosaic Methods:
SortField:
SortValue: null
Mosaic Operator: First
Default Compression Quality: 75
Default Resampling Method: Bilinear
Max Record Count: null
Max Image Height: 4100
Max Image Width: 15000
Max Download Image Count: null
Max Mosaic Image Count: null
Allow Raster Function: true
Allow Copy: true
Allow Analysis: true
Allow Compute TiePoints: false
Supports Statistics: false
Supports Advanced Queries: false
Use StandardizedQueries: true
Raster Type Infos:
Name: Raster Dataset
Description: Supports all ArcGIS Raster Datasets
Help:
Has Raster Attribute Table: false
Edit Fields Info: null
Ownership Based AccessControl For Rasters: null
Child Resources:
Info
Histograms
Statistics
Key Properties
Legend
Raster Function Infos
Supported Operations:
Export Image
Identify
Measure
Compute Histograms
Compute Statistics Histograms
Get Samples
Compute Class Statistics
Query Boundary
Compute Pixel Location
Compute Angles
Validate
Project