View In:
ArcGIS JavaScript
ArcGIS Online Map Viewer
ArcGIS Earth
Service Description: The Federal Emergency Management Agency (FEMA) has developed the Digital Elevation Model (DEM) in gridded for US Virgin Islands using NOAA 2013 LiDAR data. This grids represents the bare ground with a spatial resolution of 10 feet.
Name: Region2/USVI_NOAA2013_LiDAR_Based_Digital_Elevation_Model
Description: The Federal Emergency Management Agency (FEMA) has developed the Digital Elevation Model (DEM) in gridded for US Virgin Islands using NOAA 2013 LiDAR data. This grids represents the bare ground with a spatial resolution of 10 feet.
Single Fused Map Cache: false
Extent:
XMin: 1116607.9617565903
YMin: 597995.0554095607
XMax: 1307907.9617565903
YMax: 874505.0554095607
Spatial Reference: 102761
(102761)
LatestVCSWkid(0)
Initial Extent:
XMin: 1116607.9617565903
YMin: 597995.0554095607
XMax: 1307907.9617565903
YMax: 874505.0554095607
Spatial Reference: 102761
(102761)
LatestVCSWkid(0)
Full Extent:
XMin: 1116607.9617565903
YMin: 597995.0554095607
XMax: 1307907.9617565903
YMax: 874505.0554095607
Spatial Reference: 102761
(102761)
LatestVCSWkid(0)
Pixel Size X: 10.0
Pixel Size Y: 10.0
Band Count: 1
Pixel Type: F32
RasterFunction Infos: {"rasterFunctionInfos": [{
"name": "None",
"description": "",
"help": ""
}]}
Mensuration Capabilities: Basic
Inspection Capabilities:
Has Histograms: true
Has Colormap: false
Has Multi Dimensions : false
Rendering Rule:
Min Scale: 0
Max Scale: 0
Copyright Text: FEMA
Service Data Type: esriImageServiceDataTypeGeneric
Min Values: -0.9990000128746033
Max Values: 1546.166259765625
Mean Values: 142.6742983124379
Standard Deviation Values: 221.4184015641655
Object ID Field:
Fields:
None
Default Mosaic Method: Center
Allowed Mosaic Methods:
SortField:
SortValue: null
Mosaic Operator: First
Default Compression Quality: 75
Default Resampling Method: Bilinear
Max Record Count: null
Max Image Height: 4100
Max Image Width: 15000
Max Download Image Count: null
Max Mosaic Image Count: null
Allow Raster Function: true
Allow Copy: true
Allow Analysis: true
Allow Compute TiePoints: false
Supports Statistics: false
Supports Advanced Queries: false
Use StandardizedQueries: true
Raster Type Infos:
Name: Raster Dataset
Description: Supports all ArcGIS Raster Datasets
Help:
Has Raster Attribute Table: false
Edit Fields Info: null
Ownership Based AccessControl For Rasters: null
Child Resources:
Info
Histograms
Statistics
Key Properties
Legend
Raster Function Infos
Supported Operations:
Export Image
Identify
Measure
Compute Histograms
Compute Statistics Histograms
Get Samples
Compute Class Statistics
Query Boundary
Compute Pixel Location
Compute Angles
Validate
Project