View In:
ArcGIS JavaScript
ArcGIS Online Map Viewer
ArcGIS Earth
Service Description: Marshall_100YR_WSE
Name: Region8/SD_Marshall
Description: Marshall_100YR_WSE
Single Fused Map Cache: false
Extent:
XMin: 2482713.1315788687
YMin: 638097.9445008237
XMax: 2678659.5913978415
YMax: 778513.6071523372
Spatial Reference: 3454
(4457)
LatestVCSWkid(0)
Initial Extent:
XMin: 2482713.1315788687
YMin: 638097.9445008237
XMax: 2678659.5913978415
YMax: 778513.6071523372
Spatial Reference: 3454
(4457)
LatestVCSWkid(0)
Full Extent:
XMin: 2482713.1315788687
YMin: 638097.9445008237
XMax: 2678659.5913978415
YMax: 778513.6071523372
Spatial Reference: 3454
(4457)
LatestVCSWkid(0)
Pixel Size X: 2.999976419544564
Pixel Size Y: 2.9999500630584426
Band Count: 1
Pixel Type: F32
RasterFunction Infos: {"rasterFunctionInfos": [{
"name": "None",
"description": "",
"help": ""
}]}
Mensuration Capabilities: Basic
Inspection Capabilities:
Has Histograms: true
Has Colormap: false
Has Multi Dimensions : false
Rendering Rule:
Min Scale: 0
Max Scale: 0
Copyright Text:
Service Data Type: esriImageServiceDataTypeGeneric
Min Values: 1192.73828125
Max Values: 2065.79296875
Mean Values: 1504.8108988142396
Standard Deviation Values: 251.41382705879755
Object ID Field:
Fields:
None
Default Mosaic Method: Center
Allowed Mosaic Methods:
SortField:
SortValue: null
Mosaic Operator: First
Default Compression Quality: 75
Default Resampling Method: Bilinear
Max Record Count: null
Max Image Height: 4100
Max Image Width: 15000
Max Download Image Count: null
Max Mosaic Image Count: null
Allow Raster Function: true
Allow Copy: true
Allow Analysis: true
Allow Compute TiePoints: false
Supports Statistics: false
Supports Advanced Queries: false
Use StandardizedQueries: true
Raster Type Infos:
Name: Raster Dataset
Description: Supports all ArcGIS Raster Datasets
Help:
Has Raster Attribute Table: false
Edit Fields Info: null
Ownership Based AccessControl For Rasters: null
Child Resources:
Info
Histograms
Statistics
Key Properties
Legend
Raster Function Infos
Supported Operations:
Export Image
Identify
Measure
Compute Histograms
Compute Statistics Histograms
Get Samples
Compute Class Statistics
Query Boundary
Compute Pixel Location
Compute Angles
Validate
Project