View In:
ArcGIS JavaScript
ArcGIS Online Map Viewer
ArcGIS Earth
Service Description: Water Surface Elevation, R8, MIT, .1%, South Dakota,
Name: WSE_01/WSE_SD_01
Description: Water Surface Elevation, R8, MIT, .1%, South Dakota,
Single Fused Map Cache: false
Extent:
XMin: 2291339.096501455
YMin: -474567.4678417449
XMax: 2928508.693990653
YMax: 784912.9464029921
Spatial Reference: 103149
(6572)
LatestVCSWkid(0)
Initial Extent:
XMin: 2291339.096501455
YMin: -474567.4678417449
XMax: 2928508.693990653
YMax: 784912.9464029921
Spatial Reference: 103149
(6572)
LatestVCSWkid(0)
Full Extent:
XMin: 2291339.096501455
YMin: -474567.4678417449
XMax: 2928508.693990653
YMax: 784912.9464029921
Spatial Reference: 103149
(6572)
LatestVCSWkid(0)
Pixel Size X: 2.999955730599397
Pixel Size Y: 2.999955730599398
Band Count: 1
Pixel Type: F32
RasterFunction Infos: {"rasterFunctionInfos": [{
"name": "None",
"description": "",
"help": ""
}]}
Mensuration Capabilities: Basic
Inspection Capabilities:
Has Histograms: true
Has Colormap: false
Has Multi Dimensions : false
Rendering Rule:
Min Scale: 0
Max Scale: 0
Copyright Text:
Service Data Type: esriImageServiceDataTypeGeneric
Min Values: 943.5999755859375
Max Values: 2096
Mean Values: 1423.3402892782012
Standard Deviation Values: 220.59708779588394
Object ID Field:
Fields:
None
Default Mosaic Method: Center
Allowed Mosaic Methods:
SortField:
SortValue: null
Mosaic Operator: First
Default Compression Quality: 75
Default Resampling Method: Bilinear
Max Record Count: null
Max Image Height: 4100
Max Image Width: 15000
Max Download Image Count: null
Max Mosaic Image Count: null
Allow Raster Function: true
Allow Copy: true
Allow Analysis: true
Allow Compute TiePoints: false
Supports Statistics: false
Supports Advanced Queries: false
Use StandardizedQueries: true
Raster Type Infos:
Name: Raster Dataset
Description: Supports all ArcGIS Raster Datasets
Help:
Has Raster Attribute Table: false
Edit Fields Info: null
Ownership Based AccessControl For Rasters: null
Child Resources:
Info
Histograms
Statistics
Key Properties
Legend
Raster Function Infos
Supported Operations:
Export Image
Identify
Measure
Compute Histograms
Compute Statistics Histograms
Get Samples
Compute Class Statistics
Query Boundary
Compute Pixel Location
Compute Angles
Validate
Project