View In:
ArcGIS JavaScript
ArcGIS Online Map Viewer
ArcGIS Earth
Service Description: 1% Water Surface Elevation Raster of Golden Valley County North Dakota used for ID on the R8 Viewer
Name: WSE_01/W_NDGoldenValleyCo_01
Description: 1% Water Surface Elevation Raster of Golden Valley County North Dakota used for ID on the R8 Viewer
Single Fused Map Cache: false
Extent:
XMin: 1076197.7614840707
YMin: 335711.3907631018
XMax: 1193043.4534840707
YMax: 626997.2187631018
Spatial Reference: 102721
(102721)
LatestVCSWkid(0)
Initial Extent:
XMin: 1076197.7614840707
YMin: 335711.3907631018
XMax: 1193043.4534840707
YMax: 626997.2187631018
Spatial Reference: 102721
(102721)
LatestVCSWkid(0)
Full Extent:
XMin: 1076197.7614840707
YMin: 335711.3907631018
XMax: 1193043.4534840707
YMax: 626997.2187631018
Spatial Reference: 102721
(102721)
LatestVCSWkid(0)
Pixel Size X: 3.280800000000001
Pixel Size Y: 3.2808000000000006
Band Count: 1
Pixel Type: F32
RasterFunction Infos: {"rasterFunctionInfos": [{
"name": "None",
"description": "",
"help": ""
}]}
Mensuration Capabilities: Basic
Inspection Capabilities:
Has Histograms: false
Has Colormap: false
Has Multi Dimensions : false
Rendering Rule:
Min Scale: 0
Max Scale: 0
Copyright Text:
Service Data Type: esriImageServiceDataTypeGeneric
Min Values: 2101.3005371094
Max Values: 3162.0021972656
Mean Values: 2507.4986249359
Standard Deviation Values: 206.24964055299
Object ID Field:
Fields:
None
Default Mosaic Method: Center
Allowed Mosaic Methods:
SortField:
SortValue: null
Mosaic Operator: First
Default Compression Quality: 75
Default Resampling Method: Bilinear
Max Record Count: null
Max Image Height: 4100
Max Image Width: 15000
Max Download Image Count: null
Max Mosaic Image Count: null
Allow Raster Function: true
Allow Copy: true
Allow Analysis: true
Allow Compute TiePoints: false
Supports Statistics: false
Supports Advanced Queries: false
Use StandardizedQueries: true
Raster Type Infos:
Name: Raster Dataset
Description: Supports all ArcGIS Raster Datasets
Help:
Has Raster Attribute Table: false
Edit Fields Info: null
Ownership Based AccessControl For Rasters: null
Child Resources:
Info
Statistics
Key Properties
Legend
Raster Function Infos
Supported Operations:
Export Image
Identify
Measure
Compute Histograms
Compute Statistics Histograms
Get Samples
Compute Class Statistics
Query Boundary
Compute Pixel Location
Compute Angles
Validate
Project