View In:
ArcGIS JavaScript
ArcGIS Online Map Viewer
ArcGIS Earth
Service Description: 1% Water Surface Elevation Raster of Traill County North Dakota used for ID on the R8 Viewer
Name: WSE_01/W_NDTraillCo_01
Description: 1% Water Surface Elevation Raster of Traill County North Dakota used for ID on the R8 Viewer
Single Fused Map Cache: false
Extent:
XMin: 2714151.3343434944
YMin: 102188.28399313852
XMax: 2874920.3767434945
YMax: 265982.2239931385
Spatial Reference: 102720
(102720)
LatestVCSWkid(0)
Initial Extent:
XMin: 2714151.3343434944
YMin: 102188.28399313852
XMax: 2874920.3767434945
YMax: 265982.2239931385
Spatial Reference: 102720
(102720)
LatestVCSWkid(0)
Full Extent:
XMin: 2714151.3343434944
YMin: 102188.28399313852
XMax: 2874920.3767434945
YMax: 265982.2239931385
Spatial Reference: 102720
(102720)
LatestVCSWkid(0)
Pixel Size X: 3.2808000000000033
Pixel Size Y: 3.2808
Band Count: 1
Pixel Type: F32
RasterFunction Infos: {"rasterFunctionInfos": [{
"name": "None",
"description": "",
"help": ""
}]}
Mensuration Capabilities: Basic
Inspection Capabilities:
Has Histograms: false
Has Colormap: false
Has Multi Dimensions : false
Rendering Rule:
Min Scale: 0
Max Scale: 0
Copyright Text:
Service Data Type: esriImageServiceDataTypeGeneric
Min Values: 813.40002441406
Max Values: 1182.1999511719
Mean Values: 931.78968577573
Standard Deviation Values: 61.212233854494
Object ID Field:
Fields:
None
Default Mosaic Method: Center
Allowed Mosaic Methods:
SortField:
SortValue: null
Mosaic Operator: First
Default Compression Quality: 75
Default Resampling Method: Bilinear
Max Record Count: null
Max Image Height: 4100
Max Image Width: 15000
Max Download Image Count: null
Max Mosaic Image Count: null
Allow Raster Function: true
Allow Copy: true
Allow Analysis: true
Allow Compute TiePoints: false
Supports Statistics: false
Supports Advanced Queries: false
Use StandardizedQueries: true
Raster Type Infos:
Name: Raster Dataset
Description: Supports all ArcGIS Raster Datasets
Help:
Has Raster Attribute Table: false
Edit Fields Info: null
Ownership Based AccessControl For Rasters: null
Child Resources:
Info
Statistics
Key Properties
Legend
Raster Function Infos
Supported Operations:
Export Image
Identify
Measure
Compute Histograms
Compute Statistics Histograms
Get Samples
Compute Class Statistics
Query Boundary
Compute Pixel Location
Compute Angles
Validate
Project