View In:
ArcGIS JavaScript
ArcGIS Online Map Viewer
ArcGIS Earth
Service Description: Water Surface Elevation, R8, MIT, .02%, NorthDakota, Disk1
Name: WSE_02/WSE_ND_0_2_d1
Description: Water Surface Elevation, R8, MIT, .02%, NorthDakota, Disk1
Single Fused Map Cache: false
Extent:
XMin: 1605643.1371481419
YMin: 766625.0593598112
XMax: 2762653.3459481415
YMax: 1894134.3145598108
Spatial Reference: 3454
(4457)
LatestVCSWkid(0)
Initial Extent:
XMin: 1605643.1371481419
YMin: 766625.0593598112
XMax: 2762653.3459481415
YMax: 1894134.3145598108
Spatial Reference: 3454
(4457)
LatestVCSWkid(0)
Full Extent:
XMin: 1605643.1371481419
YMin: 766625.0593598112
XMax: 2762653.3459481415
YMax: 1894134.3145598108
Spatial Reference: 3454
(4457)
LatestVCSWkid(0)
Pixel Size X: 3.2807999999999993
Pixel Size Y: 3.280799999999999
Band Count: 1
Pixel Type: F32
RasterFunction Infos: {"rasterFunctionInfos": [{
"name": "None",
"description": "",
"help": ""
}]}
Mensuration Capabilities: Basic
Inspection Capabilities:
Has Histograms: true
Has Colormap: false
Has Multi Dimensions : false
Rendering Rule:
Min Scale: 0
Max Scale: 0
Copyright Text:
Service Data Type: esriImageServiceDataTypeGeneric
Min Values: 812.693115234375
Max Values: 2440.67236328125
Mean Values: 1388.6310782665444
Standard Deviation Values: 342.67991839224123
Object ID Field:
Fields:
None
Default Mosaic Method: Center
Allowed Mosaic Methods:
SortField:
SortValue: null
Mosaic Operator: First
Default Compression Quality: 75
Default Resampling Method: Bilinear
Max Record Count: null
Max Image Height: 4100
Max Image Width: 15000
Max Download Image Count: null
Max Mosaic Image Count: null
Allow Raster Function: true
Allow Copy: true
Allow Analysis: true
Allow Compute TiePoints: false
Supports Statistics: false
Supports Advanced Queries: false
Use StandardizedQueries: true
Raster Type Infos:
Name: Raster Dataset
Description: Supports all ArcGIS Raster Datasets
Help:
Has Raster Attribute Table: false
Edit Fields Info: null
Ownership Based AccessControl For Rasters: null
Child Resources:
Info
Histograms
Statistics
Key Properties
Legend
Raster Function Infos
Supported Operations:
Export Image
Identify
Measure
Compute Histograms
Compute Statistics Histograms
Get Samples
Compute Class Statistics
Query Boundary
Compute Pixel Location
Compute Angles
Validate
Project